BEGIN:VCALENDAR
VERSION:2.0
PRODID:-//City of Scranton - ECPv6.15.20//NONSGML v1.0//EN
CALSCALE:GREGORIAN
METHOD:PUBLISH
X-WR-CALNAME:City of Scranton
X-ORIGINAL-URL:https://scrantonpa.gov
X-WR-CALDESC:Events for City of Scranton
REFRESH-INTERVAL;VALUE=DURATION:PT1H
X-Robots-Tag:noindex
X-PUBLISHED-TTL:PT1H
BEGIN:VTIMEZONE
TZID:America/New_York
BEGIN:DAYLIGHT
TZOFFSETFROM:-0500
TZOFFSETTO:-0400
TZNAME:EDT
DTSTART:20210314T070000
END:DAYLIGHT
BEGIN:STANDARD
TZOFFSETFROM:-0400
TZOFFSETTO:-0500
TZNAME:EST
DTSTART:20211107T060000
END:STANDARD
BEGIN:DAYLIGHT
TZOFFSETFROM:-0500
TZOFFSETTO:-0400
TZNAME:EDT
DTSTART:20220313T070000
END:DAYLIGHT
BEGIN:STANDARD
TZOFFSETFROM:-0400
TZOFFSETTO:-0500
TZNAME:EST
DTSTART:20221106T060000
END:STANDARD
BEGIN:DAYLIGHT
TZOFFSETFROM:-0500
TZOFFSETTO:-0400
TZNAME:EDT
DTSTART:20230312T070000
END:DAYLIGHT
BEGIN:STANDARD
TZOFFSETFROM:-0400
TZOFFSETTO:-0500
TZNAME:EST
DTSTART:20231105T060000
END:STANDARD
END:VTIMEZONE
BEGIN:VEVENT
DTSTART;TZID=America/New_York:20221207T121500
DTEND;TZID=America/New_York:20221207T131500
DTSTAMP:20260422T134606
CREATED:20220821T143724Z
LAST-MODIFIED:20220821T143725Z
UID:26043-1670415300-1670418900@scrantonpa.gov
SUMMARY:Scranton Redevelopment Authority
DESCRIPTION:The SRA meets at 12:15pm on the first Wednesday of each month in the Community Room at Nay Aug Park.
URL:https://scrantonpa.gov/event/scranton-redevelopment-authority-4/
LOCATION:Nay Aug Park Community Room\, C935+4J Scranton\, Pennsylvania
END:VEVENT
BEGIN:VEVENT
DTSTART;TZID=America/New_York:20221207T180000
DTEND;TZID=America/New_York:20221207T210000
DTSTAMP:20260422T134606
CREATED:20221202T214711Z
LAST-MODIFIED:20221202T214712Z
UID:28915-1670436000-1670446800@scrantonpa.gov
SUMMARY:City Planning Commision
DESCRIPTION:CPC-Agenda-12-2022-1Download
URL:https://scrantonpa.gov/event/city-planning-commision/
LOCATION:340 North Washington Avenue
END:VEVENT
END:VCALENDAR