BEGIN:VCALENDAR
VERSION:2.0
PRODID:-//City of Scranton - ECPv6.15.20//NONSGML v1.0//EN
CALSCALE:GREGORIAN
METHOD:PUBLISH
X-WR-CALNAME:City of Scranton
X-ORIGINAL-URL:https://scrantonpa.gov
X-WR-CALDESC:Events for City of Scranton
REFRESH-INTERVAL;VALUE=DURATION:PT1H
X-Robots-Tag:noindex
X-PUBLISHED-TTL:PT1H
BEGIN:VTIMEZONE
TZID:America/New_York
BEGIN:DAYLIGHT
TZOFFSETFROM:-0500
TZOFFSETTO:-0400
TZNAME:EDT
DTSTART:20210314T070000
END:DAYLIGHT
BEGIN:STANDARD
TZOFFSETFROM:-0400
TZOFFSETTO:-0500
TZNAME:EST
DTSTART:20211107T060000
END:STANDARD
BEGIN:DAYLIGHT
TZOFFSETFROM:-0500
TZOFFSETTO:-0400
TZNAME:EDT
DTSTART:20220313T070000
END:DAYLIGHT
BEGIN:STANDARD
TZOFFSETFROM:-0400
TZOFFSETTO:-0500
TZNAME:EST
DTSTART:20221106T060000
END:STANDARD
BEGIN:DAYLIGHT
TZOFFSETFROM:-0500
TZOFFSETTO:-0400
TZNAME:EDT
DTSTART:20230312T070000
END:DAYLIGHT
BEGIN:STANDARD
TZOFFSETFROM:-0400
TZOFFSETTO:-0500
TZNAME:EST
DTSTART:20231105T060000
END:STANDARD
END:VTIMEZONE
BEGIN:VEVENT
DTSTART;TZID=America/New_York:20221217T150000
DTEND;TZID=America/New_York:20221217T170000
DTSTAMP:20260422T134603
CREATED:20221128T192222Z
LAST-MODIFIED:20221128T192224Z
UID:28873-1671289200-1671296400@scrantonpa.gov
SUMMARY:Resurrecting Audubon School Tradition to the General Public
DESCRIPTION:String popcorn\, cranberries\, apples\, and tangerines to feed birds for the winter.  \n\n\n\nBring your completed project to Nay Aug Park on December 17th at 3 PM. \n\n\n\nYou can hang them on the newly planted pine tree and sing Christmas Carols!
URL:https://scrantonpa.gov/event/resurrecting-audubon-school-tradition-to-the-general-public/
LOCATION:Nay Aug Park\, 500 Arthur Ave.\, Scranton\, Pennsylvania\, 18510
END:VEVENT
END:VCALENDAR