BEGIN:VCALENDAR
VERSION:2.0
PRODID:-//City of Scranton - ECPv6.15.20//NONSGML v1.0//EN
CALSCALE:GREGORIAN
METHOD:PUBLISH
X-ORIGINAL-URL:https://scrantonpa.gov
X-WR-CALDESC:Events for City of Scranton
REFRESH-INTERVAL;VALUE=DURATION:PT1H
X-Robots-Tag:noindex
X-PUBLISHED-TTL:PT1H
BEGIN:VTIMEZONE
TZID:America/New_York
BEGIN:DAYLIGHT
TZOFFSETFROM:-0500
TZOFFSETTO:-0400
TZNAME:EDT
DTSTART:20220313T070000
END:DAYLIGHT
BEGIN:STANDARD
TZOFFSETFROM:-0400
TZOFFSETTO:-0500
TZNAME:EST
DTSTART:20221106T060000
END:STANDARD
BEGIN:DAYLIGHT
TZOFFSETFROM:-0500
TZOFFSETTO:-0400
TZNAME:EDT
DTSTART:20230312T070000
END:DAYLIGHT
BEGIN:STANDARD
TZOFFSETFROM:-0400
TZOFFSETTO:-0500
TZNAME:EST
DTSTART:20231105T060000
END:STANDARD
BEGIN:DAYLIGHT
TZOFFSETFROM:-0500
TZOFFSETTO:-0400
TZNAME:EDT
DTSTART:20240310T070000
END:DAYLIGHT
BEGIN:STANDARD
TZOFFSETFROM:-0400
TZOFFSETTO:-0500
TZNAME:EST
DTSTART:20241103T060000
END:STANDARD
END:VTIMEZONE
BEGIN:VEVENT
DTSTART;TZID=America/New_York:20230209T173000
DTEND;TZID=America/New_York:20230209T203000
DTSTAMP:20260422T215815
CREATED:20230109T205916Z
LAST-MODIFIED:20230203T193512Z
UID:29231-1675963800-1675974600@scrantonpa.gov
SUMMARY:Historical Architectural Review Board
DESCRIPTION:The Historical Architectural Review Board of the City of Scranton has scheduled a regular meeting regarding the Certificate of Appropriateness for the following buildings located at: \n\n\n\n\n203-207 N. Washington Ave.- Dustin Lavigne- Painting;\n\n\n\n315 -331 Franklin Ave.- Kevin McDonough\, MacSigns- Signage;\n\n\n\n413-415 Biden St\, 200 Wyoming Ave. – Emily Fischetti\, HC Architects- Friendship House- Alteration\, Restoration\, Renovation;\n\n\n\n514-516-518 Lackawanna Ave.- Ken Ruby\, HC Architects- Francis J. Dubas- Alteration\, Restoration\, Renovation.\n\n\n\n\nThe meeting will be held on February 9\, 2023\, at 5:30 p.m. in City Hall\, Second Floor and will be broadcasted via ECTV and YouTube. Public is welcome to attend\, face masks are recommended.
URL:https://scrantonpa.gov/event/historical-architectural-review-board-2/
LOCATION:Council Chambers
END:VEVENT
END:VCALENDAR