BEGIN:VCALENDAR
VERSION:2.0
PRODID:-//City of Scranton - ECPv6.15.20//NONSGML v1.0//EN
CALSCALE:GREGORIAN
METHOD:PUBLISH
X-WR-CALNAME:City of Scranton
X-ORIGINAL-URL:https://scrantonpa.gov
X-WR-CALDESC:Events for City of Scranton
REFRESH-INTERVAL;VALUE=DURATION:PT1H
X-Robots-Tag:noindex
X-PUBLISHED-TTL:PT1H
BEGIN:VTIMEZONE
TZID:America/New_York
BEGIN:DAYLIGHT
TZOFFSETFROM:-0500
TZOFFSETTO:-0400
TZNAME:EDT
DTSTART:20210314T070000
END:DAYLIGHT
BEGIN:STANDARD
TZOFFSETFROM:-0400
TZOFFSETTO:-0500
TZNAME:EST
DTSTART:20211107T060000
END:STANDARD
BEGIN:DAYLIGHT
TZOFFSETFROM:-0500
TZOFFSETTO:-0400
TZNAME:EDT
DTSTART:20220313T070000
END:DAYLIGHT
BEGIN:STANDARD
TZOFFSETFROM:-0400
TZOFFSETTO:-0500
TZNAME:EST
DTSTART:20221106T060000
END:STANDARD
BEGIN:DAYLIGHT
TZOFFSETFROM:-0500
TZOFFSETTO:-0400
TZNAME:EDT
DTSTART:20230312T070000
END:DAYLIGHT
BEGIN:STANDARD
TZOFFSETFROM:-0400
TZOFFSETTO:-0500
TZNAME:EST
DTSTART:20231105T060000
END:STANDARD
END:VTIMEZONE
BEGIN:VEVENT
DTSTART;TZID=America/New_York:20220402T130000
DTEND;TZID=America/New_York:20220402T190000
DTSTAMP:20260421T113631
CREATED:20211222T191841Z
LAST-MODIFIED:20211222T191842Z
UID:17844-1648904400-1648926000@scrantonpa.gov
SUMMARY:Scranton 5k Race
DESCRIPTION:
URL:https://scrantonpa.gov/event/scranton-5k-race/
LOCATION:Scranton High School and Streets of Scranton
CATEGORIES:City Events
END:VEVENT
BEGIN:VEVENT
DTSTART;TZID=America/New_York:20220403T060000
DTEND;TZID=America/New_York:20220403T140000
DTSTAMP:20260421T113631
CREATED:20211222T192230Z
LAST-MODIFIED:20211222T192231Z
UID:17848-1648965600-1648994400@scrantonpa.gov
SUMMARY:Scranton Half Marathon
DESCRIPTION:
URL:https://scrantonpa.gov/event/scranton-half-marathon/
LOCATION:Scranton High School and Streets of Scranton
CATEGORIES:City Events
END:VEVENT
BEGIN:VEVENT
DTSTART;TZID=America/New_York:20220409T113000
DTEND;TZID=America/New_York:20220409T210000
DTSTAMP:20260421T113631
CREATED:20220405T181235Z
LAST-MODIFIED:20220405T181236Z
UID:21626-1649503800-1649538000@scrantonpa.gov
SUMMARY:TasteUSA Taco\, Beer and Tequila Festival
DESCRIPTION:
URL:https://scrantonpa.gov/event/tasteusa-taco-beer-and-tequila-festival/
LOCATION:Montage Mountain Resort\, 1000 Montage Mountain Rd..\, Scranton\, 18507
CATEGORIES:City Events
END:VEVENT
BEGIN:VEVENT
DTSTART;TZID=America/New_York:20220410T110000
DTEND;TZID=America/New_York:20220410T160000
DTSTAMP:20260421T113631
CREATED:20220318T193648Z
LAST-MODIFIED:20220318T193649Z
UID:21340-1649588400-1649606400@scrantonpa.gov
SUMMARY:5th Annual Buy Local Spring Fling Marketplace
DESCRIPTION:
URL:https://scrantonpa.gov/event/5th-annual-buy-local-spring-fling-marketplace/
LOCATION:Scranton Cultural Center at the Masonic Temple\, 420 N. Washington Avenue\, Scranton\, Pennsylvania\, 18503
CATEGORIES:City Events
END:VEVENT
BEGIN:VEVENT
DTSTART;TZID=America/New_York:20220412T090000
DTEND;TZID=America/New_York:20220412T160000
DTSTAMP:20260421T113631
CREATED:20220318T194219Z
LAST-MODIFIED:20220318T194221Z
UID:21344-1649754000-1649779200@scrantonpa.gov
SUMMARY:Family to Family/FOTP Easter Food Basket Program
DESCRIPTION:Distributing food and Easter baskets to those in need
URL:https://scrantonpa.gov/event/family-to-family-fotp-easter-food-basket-program/
LOCATION:Outside the Scranton Cultural Center at the Masonic Temple\, 420 N. Washington Avenue\, Scranton\, 18503
CATEGORIES:City Events
END:VEVENT
BEGIN:VEVENT
DTSTART;TZID=America/New_York:20220415T130000
DTEND;TZID=America/New_York:20220415T160000
DTSTAMP:20260421T113631
CREATED:20220408T191955Z
LAST-MODIFIED:20220408T191956Z
UID:21732-1650027600-1650038400@scrantonpa.gov
SUMMARY:Good Friday Living Stations of the Cross
DESCRIPTION:The parish of St. John Neumann will hold a street procession to pray and act out scenes from the Stations of the Cross.
URL:https://scrantonpa.gov/event/good-friday-living-stations-of-the-cross/
LOCATION:The Streets of South Scranton
CATEGORIES:City Events
END:VEVENT
BEGIN:VEVENT
DTSTART;TZID=America/New_York:20220428T063000
DTEND;TZID=America/New_York:20220428T193000
DTSTAMP:20260421T113632
CREATED:20220419T185158Z
LAST-MODIFIED:20220419T185159Z
UID:21916-1651127400-1651174200@scrantonpa.gov
SUMMARY:Holocaust Remembrance Program
DESCRIPTION:Outdoor Memorial Service
URL:https://scrantonpa.gov/event/holocaust-remembrance-program/
LOCATION:Scranton JCC\, 601 Jefferson Avenue\, Scranton\, Pennsylvania\, 18510
CATEGORIES:City Events
END:VEVENT
BEGIN:VEVENT
DTSTART;TZID=America/New_York:20220430T080000
DTEND;TZID=America/New_York:20220430T113000
DTSTAMP:20260421T113632
CREATED:20220419T184933Z
LAST-MODIFIED:20220419T184935Z
UID:21912-1651305600-1651318200@scrantonpa.gov
SUMMARY:PanCAN PurpleStride
DESCRIPTION:PanCAN PurpleStride is a 5K walk event to raise funds and awareness for pancreatic cancer research.
URL:https://scrantonpa.gov/event/pancan-purplestride/
LOCATION:(Scranton 1/2 Marathon Pavilion) Heritage Trail Parking Lot\, Love Rd.\, Scranton\, 18508
CATEGORIES:City Events
END:VEVENT
BEGIN:VEVENT
DTSTART;TZID=America/New_York:20220430T120000
DTEND;TZID=America/New_York:20220430T160000
DTSTAMP:20260421T113632
CREATED:20220308T210041Z
LAST-MODIFIED:20220308T210042Z
UID:21165-1651320000-1651334400@scrantonpa.gov
SUMMARY:Pine Brook Family Arts Festival
DESCRIPTION:
URL:https://scrantonpa.gov/event/pine-brook-family-arts-festival/
LOCATION:John Adams Elementary School\, 927 Capouse Avenue\, Scranton\, Pennsylvania
CATEGORIES:City Events
END:VEVENT
BEGIN:VEVENT
DTSTART;TZID=America/New_York:20220430T130000
DTEND;TZID=America/New_York:20220430T160000
DTSTAMP:20260421T113632
CREATED:20220207T172345Z
LAST-MODIFIED:20220207T172346Z
UID:20464-1651323600-1651334400@scrantonpa.gov
SUMMARY:The Office 5K/10K Run/Walk
DESCRIPTION:A 5K and 10K race through downtown and other parts of Scranton that pass sites from the show “The Office”
URL:https://scrantonpa.gov/event/the-office-5k-10k-run-walk/
LOCATION:523 Linden Street (Start and Finish of Race)
CATEGORIES:City Events
END:VEVENT
END:VCALENDAR