BEGIN:VCALENDAR
VERSION:2.0
PRODID:-//City of Scranton - ECPv6.15.20//NONSGML v1.0//EN
CALSCALE:GREGORIAN
METHOD:PUBLISH
X-ORIGINAL-URL:https://scrantonpa.gov
X-WR-CALDESC:Events for City of Scranton
REFRESH-INTERVAL;VALUE=DURATION:PT1H
X-Robots-Tag:noindex
X-PUBLISHED-TTL:PT1H
BEGIN:VTIMEZONE
TZID:America/New_York
BEGIN:DAYLIGHT
TZOFFSETFROM:-0500
TZOFFSETTO:-0400
TZNAME:EDT
DTSTART:20220313T070000
END:DAYLIGHT
BEGIN:STANDARD
TZOFFSETFROM:-0400
TZOFFSETTO:-0500
TZNAME:EST
DTSTART:20221106T060000
END:STANDARD
BEGIN:DAYLIGHT
TZOFFSETFROM:-0500
TZOFFSETTO:-0400
TZNAME:EDT
DTSTART:20230312T070000
END:DAYLIGHT
BEGIN:STANDARD
TZOFFSETFROM:-0400
TZOFFSETTO:-0500
TZNAME:EST
DTSTART:20231105T060000
END:STANDARD
BEGIN:DAYLIGHT
TZOFFSETFROM:-0500
TZOFFSETTO:-0400
TZNAME:EDT
DTSTART:20240310T070000
END:DAYLIGHT
BEGIN:STANDARD
TZOFFSETFROM:-0400
TZOFFSETTO:-0500
TZNAME:EST
DTSTART:20241103T060000
END:STANDARD
END:VTIMEZONE
BEGIN:VEVENT
DTSTART;TZID=America/New_York:20230505T170000
DTEND;TZID=America/New_York:20230505T200000
DTSTAMP:20260422T175132
CREATED:20230425T135007Z
LAST-MODIFIED:20230425T135009Z
UID:30708-1683306000-1683316800@scrantonpa.gov
SUMMARY:First Friday – Heart to Art
DESCRIPTION: There will be an art exhibition to celebrate the life of Judy Ushock / Heart to Art and AFFA Gallery. There will also be food and beverages.
URL:https://scrantonpa.gov/event/first-friday-heart-to-art/
CATEGORIES:City Events
END:VEVENT
BEGIN:VEVENT
DTSTART;TZID=America/New_York:20230506T130000
DTEND;TZID=America/New_York:20230506T160000
DTSTAMP:20260422T175132
CREATED:20230323T163758Z
LAST-MODIFIED:20230323T163801Z
UID:30407-1683378000-1683388800@scrantonpa.gov
SUMMARY:The Office 5k
DESCRIPTION:A road race past sites in Scranton that are featured in the Office
URL:https://scrantonpa.gov/event/the-office-5k/
LOCATION:500 Block of Linden Street
CATEGORIES:City Events
END:VEVENT
BEGIN:VEVENT
DTSTART;TZID=America/New_York:20230510T180000
DTEND;TZID=America/New_York:20230510T210000
DTSTAMP:20260422T175132
CREATED:20230106T214449Z
LAST-MODIFIED:20230106T214450Z
UID:29184-1683741600-1683752400@scrantonpa.gov
SUMMARY:Zoning Hearing Board
DESCRIPTION:The Zoning Hearing Board will be held at 6:00 pm in the Council Chambers.
URL:https://scrantonpa.gov/event/zoning-hearing-board-9/
LOCATION:Council Chambers
CATEGORIES:City Events,Zoning Hearing Board
END:VEVENT
BEGIN:VEVENT
DTSTART;TZID=America/New_York:20230519T120000
DTEND;TZID=America/New_York:20230519T140000
DTSTAMP:20260422T175132
CREATED:20230517T192131Z
LAST-MODIFIED:20230517T192133Z
UID:31208-1684497600-1684504800@scrantonpa.gov
SUMMARY:Chief Justice Michael J. Eagen Memorial Dedication
DESCRIPTION:Distinguished Citizens Memorial Dedication Ceremony for the late Chief Justice Michael J. Eagen. Dedication of a memorial honoring Justice Eagen.
URL:https://scrantonpa.gov/event/chief-justice-michael-j-eagen-memorial-dedication/
LOCATION:Courthouse Square\, 500 Block Biden Street
CATEGORIES:City Events
END:VEVENT
BEGIN:VEVENT
DTSTART;TZID=America/New_York:20230525T080000
DTEND;TZID=America/New_York:20230525T170000
DTSTAMP:20260422T175132
CREATED:20230525T141225Z
LAST-MODIFIED:20230525T141226Z
UID:31390-1685001600-1685034000@scrantonpa.gov
SUMMARY:Children’s Career Fair
DESCRIPTION:Children\, aged 3 to 10 will experience a variety of careers to consider in their futures!  \n\n\n\nHands-on activities provided by employers will engage them to learn\, ask questions\, and dream about who and what they want to become. Professions for parents too!  \n\n\n\nThis event is free and open to the public and will include face painting\, STEAM projects\, Takeaways\, Back-to-School supplies\, and Food\, Treats\, and More!
URL:https://scrantonpa.gov/event/childrens-career-fair-2/
LOCATION:Outreach – Center for Community Resources\, 431 N. 7th Ave.\, Scranton\, Pennsylvania\, 18503
CATEGORIES:City Events
END:VEVENT
BEGIN:VEVENT
DTSTART;TZID=America/New_York:20230526T170000
DTEND;TZID=America/New_York:20230526T200000
DTSTAMP:20260422T175132
CREATED:20230412T134352Z
LAST-MODIFIED:20230412T134354Z
UID:30533-1685120400-1685131200@scrantonpa.gov
SUMMARY:Swingin’ on Vine
DESCRIPTION:The Scranton Public Library will host its annual block party and fundraiser.  \n\n\n\nThis event features live music\, food\, raffles\, and seasonal cocktails.  \n\n\n\nAll guests must be 21 years of age or older to attend.
URL:https://scrantonpa.gov/event/swingin-on-vine/
LOCATION:Albright Memorial Library\, 500 Vine Street\, Scranton\, Pennsylvania\, 18509
CATEGORIES:City Events
END:VEVENT
BEGIN:VEVENT
DTSTART;TZID=America/New_York:20230528T090000
DTEND;TZID=America/New_York:20230528T110000
DTSTAMP:20260422T175132
CREATED:20230508T205708Z
LAST-MODIFIED:20230508T205709Z
UID:31018-1685264400-1685271600@scrantonpa.gov
SUMMARY:Piston 'N' Pizza Car Show
DESCRIPTION:
URL:https://scrantonpa.gov/event/piston-n-pizza-car-show/
LOCATION:Vince the Pizza Prince – 600 Pittston Ave.
CATEGORIES:City Events
END:VEVENT
BEGIN:VEVENT
DTSTART;TZID=America/New_York:20230529T110000
DTEND;TZID=America/New_York:20230529T140000
DTSTAMP:20260422T175132
CREATED:20230525T140337Z
LAST-MODIFIED:20230525T140338Z
UID:31380-1685358000-1685368800@scrantonpa.gov
SUMMARY:Memorial Day Celebration
DESCRIPTION:VFW Post 25’s Memorial Day Celebration at Veterans Memorial Park
URL:https://scrantonpa.gov/event/memorial-day-celebration/
LOCATION:Veterans Memorial Park\, 816 Providence Road\, Scranton\, Pennsylvania
CATEGORIES:City Events
END:VEVENT
END:VCALENDAR