BEGIN:VCALENDAR
VERSION:2.0
PRODID:-//City of Scranton - ECPv6.15.20//NONSGML v1.0//EN
CALSCALE:GREGORIAN
METHOD:PUBLISH
X-ORIGINAL-URL:https://scrantonpa.gov
X-WR-CALDESC:Events for City of Scranton
REFRESH-INTERVAL;VALUE=DURATION:PT1H
X-Robots-Tag:noindex
X-PUBLISHED-TTL:PT1H
BEGIN:VTIMEZONE
TZID:America/New_York
BEGIN:DAYLIGHT
TZOFFSETFROM:-0500
TZOFFSETTO:-0400
TZNAME:EDT
DTSTART:20220313T070000
END:DAYLIGHT
BEGIN:STANDARD
TZOFFSETFROM:-0400
TZOFFSETTO:-0500
TZNAME:EST
DTSTART:20221106T060000
END:STANDARD
BEGIN:DAYLIGHT
TZOFFSETFROM:-0500
TZOFFSETTO:-0400
TZNAME:EDT
DTSTART:20230312T070000
END:DAYLIGHT
BEGIN:STANDARD
TZOFFSETFROM:-0400
TZOFFSETTO:-0500
TZNAME:EST
DTSTART:20231105T060000
END:STANDARD
BEGIN:DAYLIGHT
TZOFFSETFROM:-0500
TZOFFSETTO:-0400
TZNAME:EDT
DTSTART:20240310T070000
END:DAYLIGHT
BEGIN:STANDARD
TZOFFSETFROM:-0400
TZOFFSETTO:-0500
TZNAME:EST
DTSTART:20241103T060000
END:STANDARD
END:VTIMEZONE
BEGIN:VEVENT
DTSTART;TZID=America/New_York:20230601T080000
DTEND;TZID=America/New_York:20230604T210000
DTSTAMP:20260422T063524
CREATED:20230523T154913Z
LAST-MODIFIED:20230530T145047Z
UID:31365-1685606400-1685912400@scrantonpa.gov
SUMMARY:Lackawanna County Heritage Fair
DESCRIPTION:4 Day Heritage Event\n\n\n\n\nJune 1\, 2023: 4:00 PM to 10:00 PM\n\n\n\nJune 2\, 2023: 12:00 PM to 10:00 PM\n\n\n\nJune 3\, 2023: 11:00 AM – 10:00 PM\n\n\n\nJune 4\, 2023: 11:00 AM – 9:00 PM
URL:https://scrantonpa.gov/event/lackawanna-county-heritage-fair-2/
CATEGORIES:City Events
END:VEVENT
BEGIN:VEVENT
DTSTART;TZID=America/New_York:20230603T090000
DTEND;TZID=America/New_York:20230603T120000
DTSTAMP:20260422T063524
CREATED:20230425T134712Z
LAST-MODIFIED:20230425T134713Z
UID:30703-1685782800-1685793600@scrantonpa.gov
SUMMARY:Be Stronger Than the Storm Run
DESCRIPTION:5K run\, 10K run\, and 2 mile walk on the Lackawanna River Heritage Trail from the Olive St. Trailhead
URL:https://scrantonpa.gov/event/be-stronger-than-the-storm-run/
LOCATION:Lackawanna River Heritage Trail\, Olive Street Trailhead
CATEGORIES:City Events
END:VEVENT
BEGIN:VEVENT
DTSTART;TZID=America/New_York:20230603T110000
DTEND;TZID=America/New_York:20230603T160000
DTSTAMP:20260422T063524
CREATED:20230517T191334Z
LAST-MODIFIED:20230517T193106Z
UID:31202-1685790000-1685808000@scrantonpa.gov
SUMMARY:UNC Safety Fair
DESCRIPTION:A free community Safety Fair\, where families can gain vital information regarding all safety matters.  \n\n\n\nK-9 Officers will be at the event to do their demonstration.
URL:https://scrantonpa.gov/event/unc-safety-fair/
LOCATION:Weston Field\, 982 Providence Rd\, Scranton\, PA\, 18505\, United States
CATEGORIES:City Events
END:VEVENT
END:VCALENDAR