BEGIN:VCALENDAR
VERSION:2.0
PRODID:-//City of Scranton - ECPv6.15.20//NONSGML v1.0//EN
CALSCALE:GREGORIAN
METHOD:PUBLISH
X-WR-CALNAME:City of Scranton
X-ORIGINAL-URL:https://scrantonpa.gov
X-WR-CALDESC:Events for City of Scranton
REFRESH-INTERVAL;VALUE=DURATION:PT1H
X-Robots-Tag:noindex
X-PUBLISHED-TTL:PT1H
BEGIN:VTIMEZONE
TZID:America/New_York
BEGIN:DAYLIGHT
TZOFFSETFROM:-0500
TZOFFSETTO:-0400
TZNAME:EDT
DTSTART:20220313T070000
END:DAYLIGHT
BEGIN:STANDARD
TZOFFSETFROM:-0400
TZOFFSETTO:-0500
TZNAME:EST
DTSTART:20221106T060000
END:STANDARD
BEGIN:DAYLIGHT
TZOFFSETFROM:-0500
TZOFFSETTO:-0400
TZNAME:EDT
DTSTART:20230312T070000
END:DAYLIGHT
BEGIN:STANDARD
TZOFFSETFROM:-0400
TZOFFSETTO:-0500
TZNAME:EST
DTSTART:20231105T060000
END:STANDARD
BEGIN:DAYLIGHT
TZOFFSETFROM:-0500
TZOFFSETTO:-0400
TZNAME:EDT
DTSTART:20240310T070000
END:DAYLIGHT
BEGIN:STANDARD
TZOFFSETFROM:-0400
TZOFFSETTO:-0500
TZNAME:EST
DTSTART:20241103T060000
END:STANDARD
END:VTIMEZONE
BEGIN:VEVENT
DTSTART;TZID=America/New_York:20230606T110000
DTEND;TZID=America/New_York:20230610T190000
DTSTAMP:20260422T175128
CREATED:20230323T150458Z
LAST-MODIFIED:20230329T174955Z
UID:30392-1686049200-1686423600@scrantonpa.gov
SUMMARY:Summer Greek Food Festival
DESCRIPTION:SUMMER GREEK FOOD FESTIVAL – ANNUNCIATION GREEK ORTHODOX – SCRANTON\, PA  \n\n\n\nAnnunciation Greek Orthodox Festival\, located at 505 N. Washington Ave.\, in Scranton\, PA.\, will hold its famous annual Summer Greek Food Festival on the church grounds from Tuesday\, June 6th\, through Saturday\, June 10th\, from 11:00 AM – 7:00 PM.  \n\n\n\nThis will be a DINE-IN AND/OR TAKE-OUT food festival with a menu including our specialties\, such as Dolmades (stuffed grape leaves)\, Gyros\, and Galaktoboureko (our famous custard dessert) WHILE SUPPLIES LAST.  \n\n\n\nTo cut down on pedestrian traffic\, we kindly ask\, if possible\, that you phone in your order ahead of time at (570) 342-0566 or fax it to (570) 342-9722.  \n\n\n\nYou can also order online at greekfoodscranton.com and greekfestscranton.com. The ordering links will be active starting June 5th\, 2023.  \n\n\n\nOf course\, you can order in person as well!  \n\n\n\nFree admission!!
URL:https://scrantonpa.gov/event/summer-greek-food-festival/
CATEGORIES:City Events
END:VEVENT
END:VCALENDAR