BEGIN:VCALENDAR
VERSION:2.0
PRODID:-//City of Scranton - ECPv6.15.20//NONSGML v1.0//EN
CALSCALE:GREGORIAN
METHOD:PUBLISH
X-WR-CALNAME:City of Scranton
X-ORIGINAL-URL:https://scrantonpa.gov
X-WR-CALDESC:Events for City of Scranton
REFRESH-INTERVAL;VALUE=DURATION:PT1H
X-Robots-Tag:noindex
X-PUBLISHED-TTL:PT1H
BEGIN:VTIMEZONE
TZID:America/New_York
BEGIN:DAYLIGHT
TZOFFSETFROM:-0500
TZOFFSETTO:-0400
TZNAME:EDT
DTSTART:20220313T070000
END:DAYLIGHT
BEGIN:STANDARD
TZOFFSETFROM:-0400
TZOFFSETTO:-0500
TZNAME:EST
DTSTART:20221106T060000
END:STANDARD
BEGIN:DAYLIGHT
TZOFFSETFROM:-0500
TZOFFSETTO:-0400
TZNAME:EDT
DTSTART:20230312T070000
END:DAYLIGHT
BEGIN:STANDARD
TZOFFSETFROM:-0400
TZOFFSETTO:-0500
TZNAME:EST
DTSTART:20231105T060000
END:STANDARD
BEGIN:DAYLIGHT
TZOFFSETFROM:-0500
TZOFFSETTO:-0400
TZNAME:EDT
DTSTART:20240310T070000
END:DAYLIGHT
BEGIN:STANDARD
TZOFFSETFROM:-0400
TZOFFSETTO:-0500
TZNAME:EST
DTSTART:20241103T060000
END:STANDARD
END:VTIMEZONE
BEGIN:VEVENT
DTSTART;TZID=America/New_York:20230611T090000
DTEND;TZID=America/New_York:20230611T120000
DTSTAMP:20260422T063055
CREATED:20230323T151013Z
LAST-MODIFIED:20230323T151015Z
UID:30397-1686474000-1686484800@scrantonpa.gov
SUMMARY:CAC/NEPA Moonlight Run
DESCRIPTION:Children’s Advocacy Center of NEPA Moonlight 5k/10k run
URL:https://scrantonpa.gov/event/cac-nepa-moonlight-run/
LOCATION:Lackawanna River Heritage Trail\, Olive Street Trailhead
CATEGORIES:City Events
END:VEVENT
BEGIN:VEVENT
DTSTART;TZID=America/New_York:20230611T090000
DTEND;TZID=America/New_York:20230611T110000
DTSTAMP:20260422T063055
CREATED:20230508T205801Z
LAST-MODIFIED:20230508T205811Z
UID:31022-1686474000-1686481200@scrantonpa.gov
SUMMARY:Piston 'N' Pizza Car Show
DESCRIPTION:
URL:https://scrantonpa.gov/event/piston-n-pizza-car-show-2/
LOCATION:Vince the Pizza Prince – 600 Pittston Ave.
CATEGORIES:City Events
END:VEVENT
BEGIN:VEVENT
DTSTART;TZID=America/New_York:20230611T112000
DTEND;TZID=America/New_York:20230611T120000
DTSTAMP:20260422T063055
CREATED:20230609T202106Z
LAST-MODIFIED:20230609T202107Z
UID:31589-1686482400-1686484800@scrantonpa.gov
SUMMARY:Corpus Christi Procession
DESCRIPTION:Procession of the Blessed Sacrament for the Feast of Corpus Christi
URL:https://scrantonpa.gov/event/corpus-christi-procession/
LOCATION:Beginning on the Corner of N. Main Ave. and Theodore St.
CATEGORIES:City Events
END:VEVENT
BEGIN:VEVENT
DTSTART;TZID=America/New_York:20230611T130000
DTEND;TZID=America/New_York:20230611T160000
DTSTAMP:20260422T063055
CREATED:20230517T192954Z
LAST-MODIFIED:20230517T192956Z
UID:31212-1686488400-1686499200@scrantonpa.gov
SUMMARY:Scranton Community Health Fair
DESCRIPTION:
URL:https://scrantonpa.gov/event/scranton-community-health-fair/
LOCATION:St. Paul of the Cross\, 1221 Prospect Avenue\, Scranton\, Pennsylvania
CATEGORIES:City Events
END:VEVENT
END:VCALENDAR