BEGIN:VCALENDAR
VERSION:2.0
PRODID:-//City of Scranton - ECPv6.15.20//NONSGML v1.0//EN
CALSCALE:GREGORIAN
METHOD:PUBLISH
X-WR-CALNAME:City of Scranton
X-ORIGINAL-URL:https://scrantonpa.gov
X-WR-CALDESC:Events for City of Scranton
REFRESH-INTERVAL;VALUE=DURATION:PT1H
X-Robots-Tag:noindex
X-PUBLISHED-TTL:PT1H
BEGIN:VTIMEZONE
TZID:America/New_York
BEGIN:DAYLIGHT
TZOFFSETFROM:-0500
TZOFFSETTO:-0400
TZNAME:EDT
DTSTART:20220313T070000
END:DAYLIGHT
BEGIN:STANDARD
TZOFFSETFROM:-0400
TZOFFSETTO:-0500
TZNAME:EST
DTSTART:20221106T060000
END:STANDARD
BEGIN:DAYLIGHT
TZOFFSETFROM:-0500
TZOFFSETTO:-0400
TZNAME:EDT
DTSTART:20230312T070000
END:DAYLIGHT
BEGIN:STANDARD
TZOFFSETFROM:-0400
TZOFFSETTO:-0500
TZNAME:EST
DTSTART:20231105T060000
END:STANDARD
BEGIN:DAYLIGHT
TZOFFSETFROM:-0500
TZOFFSETTO:-0400
TZNAME:EDT
DTSTART:20240310T070000
END:DAYLIGHT
BEGIN:STANDARD
TZOFFSETFROM:-0400
TZOFFSETTO:-0500
TZNAME:EST
DTSTART:20241103T060000
END:STANDARD
END:VTIMEZONE
BEGIN:VEVENT
DTSTART;TZID=America/New_York:20230802T180000
DTEND;TZID=America/New_York:20230805T210000
DTSTAMP:20260421T190801
CREATED:20230616T142239Z
LAST-MODIFIED:20230616T142241Z
UID:31794-1690999200-1691269200@scrantonpa.gov
SUMMARY:WSLL 2023 Carnival
DESCRIPTION:Annual West Scranton Little League Carnival \n\n\n\nWeekdays – 6:00 PM – 9:00 PM \n\n\n\nSaturday – 3:00 PM – 9:00 PM
URL:https://scrantonpa.gov/event/wsll-2023-carnival/
LOCATION:Sloan Little League\, Parrott Ave\, Scranton\, PA 18504\, Scranton\, Pennsylvania\, 18504
CATEGORIES:City Events
END:VEVENT
BEGIN:VEVENT
DTSTART;TZID=America/New_York:20230803T090000
DTEND;TZID=America/New_York:20230803T100000
DTSTAMP:20260421T190801
CREATED:20230323T163205Z
LAST-MODIFIED:20230323T163206Z
UID:30403-1691053200-1691056800@scrantonpa.gov
SUMMARY:2nd Annual Scranton 4 Ukraine 5k
DESCRIPTION:5K Run and 1 Mile Walk
URL:https://scrantonpa.gov/event/2nd-annual-scranton-4-ukraine-5k/
LOCATION:Lackawanna River Heritage Trail\, Olive Street Trailhead
CATEGORIES:City Events
END:VEVENT
END:VCALENDAR