BEGIN:VCALENDAR
VERSION:2.0
PRODID:-//City of Scranton - ECPv6.15.20//NONSGML v1.0//EN
CALSCALE:GREGORIAN
METHOD:PUBLISH
X-WR-CALNAME:City of Scranton
X-ORIGINAL-URL:https://scrantonpa.gov
X-WR-CALDESC:Events for City of Scranton
REFRESH-INTERVAL;VALUE=DURATION:PT1H
X-Robots-Tag:noindex
X-PUBLISHED-TTL:PT1H
BEGIN:VTIMEZONE
TZID:America/New_York
BEGIN:DAYLIGHT
TZOFFSETFROM:-0500
TZOFFSETTO:-0400
TZNAME:EDT
DTSTART:20220313T070000
END:DAYLIGHT
BEGIN:STANDARD
TZOFFSETFROM:-0400
TZOFFSETTO:-0500
TZNAME:EST
DTSTART:20221106T060000
END:STANDARD
BEGIN:DAYLIGHT
TZOFFSETFROM:-0500
TZOFFSETTO:-0400
TZNAME:EDT
DTSTART:20230312T070000
END:DAYLIGHT
BEGIN:STANDARD
TZOFFSETFROM:-0400
TZOFFSETTO:-0500
TZNAME:EST
DTSTART:20231105T060000
END:STANDARD
BEGIN:DAYLIGHT
TZOFFSETFROM:-0500
TZOFFSETTO:-0400
TZNAME:EDT
DTSTART:20240310T070000
END:DAYLIGHT
BEGIN:STANDARD
TZOFFSETFROM:-0400
TZOFFSETTO:-0500
TZNAME:EST
DTSTART:20241103T060000
END:STANDARD
END:VTIMEZONE
BEGIN:VEVENT
DTSTART;TZID=America/New_York:20230811T160000
DTEND;TZID=America/New_York:20230813T190000
DTSTAMP:20260421T190801
CREATED:20230725T161834Z
LAST-MODIFIED:20230725T161836Z
UID:32447-1691769600-1691953200@scrantonpa.gov
SUMMARY:Lebanese American Food Festival
DESCRIPTION:Parish Fundraiser event; selling handmade Lebanese Foods\, Desserts\, and refreshments: including beverages and raffles and games of chance. \n\n\n\n\n8/11/2023: 4:00 PM – 9:00 PM\n\n\n\n8/12/2023: 4:00 PM – 9:00 PM\n\n\n\n8/13/2023: 1:00 PM – 7:00 PM
URL:https://scrantonpa.gov/event/lebanese-american-food-festival/
LOCATION:125-127 St. Francis Cabrini Ave.
CATEGORIES:City Events
END:VEVENT
BEGIN:VEVENT
DTSTART;TZID=America/New_York:20230812T090000
DTEND;TZID=America/New_York:20230812T110000
DTSTAMP:20260421T190801
CREATED:20230214T205508Z
LAST-MODIFIED:20230214T205509Z
UID:29929-1691830800-1691838000@scrantonpa.gov
SUMMARY:Allied Services 5K & All-Abilities Walk
DESCRIPTION:Run\, Walk\, or Cheer! You don’t have to be a speed demon to enjoy the 5k & All-Abilities Walk. \n\n\n\nTurn out to walk or run in the 5k\, or simply cheer on our participants.  \n\n\n\nThis day is a celebration – we’d love for you to join us.  \n\n\n\n\n\n\n\n5k Run/Walk:\n\n\n\nThe 5k is open to runners and walkers of all ages.  \n\n\n\nIt begins at 9:00 a.m. on the track at Veterans Memorial Stadium in Scranton.  \n\n\n\nThis is an out-and-back course that takes you along the paved Lackawanna Heritage Trail before ending back on the track at Veterans Memorial Stadium.  \n\n\n\nThe course is stroller and wheelchair-friendly. \n\n\n\nAll-Abilities Walk:\n\n\n\nIt’s a celebration! \n\n\n\nPlease join us in cheering on our patients and residents as they mark milestones in their recovery or rehab.  \n\n\n\nThe All-Abilities Walk will take place at approximately 10:00 a.m. following the 5k and awards ceremony.  \n\n\n\nIt is completely free\, open to all ages and abilities\, and no registration is required.  \n\n\n\nFor more information contact Charlotte Wright at 570-348-1275 or cwrigh@allied-services.org.
URL:https://scrantonpa.gov/event/allied-services-5k-all-abilities-walk-2/
LOCATION:Lackawanna River Heritage Trail\, Olive Street Trailhead
CATEGORIES:City Events
END:VEVENT
BEGIN:VEVENT
DTSTART;TZID=America/New_York:20230812T100000
DTEND;TZID=America/New_York:20230812T120000
DTSTAMP:20260421T190802
CREATED:20230609T191322Z
LAST-MODIFIED:20230609T191323Z
UID:31569-1691834400-1691841600@scrantonpa.gov
SUMMARY:Connell Park Walking Club
DESCRIPTION:A Weekly Walking Club that meets every Saturday at 10:00 AM at Connell Park. All ages and skill levels are welcome.
URL:https://scrantonpa.gov/event/connell-park-walking-club-10/
LOCATION:Connell Park\, 800 Gibbons Street\, Scranton\, Pennsylvania
CATEGORIES:City Events
END:VEVENT
END:VCALENDAR