BEGIN:VCALENDAR
VERSION:2.0
PRODID:-//City of Scranton - ECPv6.15.20//NONSGML v1.0//EN
CALSCALE:GREGORIAN
METHOD:PUBLISH
X-ORIGINAL-URL:https://scrantonpa.gov
X-WR-CALDESC:Events for City of Scranton
REFRESH-INTERVAL;VALUE=DURATION:PT1H
X-Robots-Tag:noindex
X-PUBLISHED-TTL:PT1H
BEGIN:VTIMEZONE
TZID:America/New_York
BEGIN:DAYLIGHT
TZOFFSETFROM:-0500
TZOFFSETTO:-0400
TZNAME:EDT
DTSTART:20220313T070000
END:DAYLIGHT
BEGIN:STANDARD
TZOFFSETFROM:-0400
TZOFFSETTO:-0500
TZNAME:EST
DTSTART:20221106T060000
END:STANDARD
BEGIN:DAYLIGHT
TZOFFSETFROM:-0500
TZOFFSETTO:-0400
TZNAME:EDT
DTSTART:20230312T070000
END:DAYLIGHT
BEGIN:STANDARD
TZOFFSETFROM:-0400
TZOFFSETTO:-0500
TZNAME:EST
DTSTART:20231105T060000
END:STANDARD
BEGIN:DAYLIGHT
TZOFFSETFROM:-0500
TZOFFSETTO:-0400
TZNAME:EDT
DTSTART:20240310T070000
END:DAYLIGHT
BEGIN:STANDARD
TZOFFSETFROM:-0400
TZOFFSETTO:-0500
TZNAME:EST
DTSTART:20241103T060000
END:STANDARD
END:VTIMEZONE
BEGIN:VEVENT
DTSTART;TZID=America/New_York:20230910T080000
DTEND;TZID=America/New_York:20230910T120000
DTSTAMP:20260421T135006
CREATED:20230725T162411Z
LAST-MODIFIED:20230725T162437Z
UID:32451-1694332800-1694347200@scrantonpa.gov
SUMMARY:Geisinger Marworth Recovery Fun Run
DESCRIPTION:Race proceeds will benefit the Geisinger Marworth Therapeutic Activities Fund. This fund helps provide therapeutic recreation programs and facilities to help our patients experience healthy leisure and gain sober social skills that will aid them in their ongoing recovery post discharge from treatment.
URL:https://scrantonpa.gov/event/geisinger-marworth-recovery-fun-run/
LOCATION:Lackawanna River Heritage Trail\, Olive Street Trailhead
CATEGORIES:City Events
END:VEVENT
END:VCALENDAR