BEGIN:VCALENDAR
VERSION:2.0
PRODID:-//City of Scranton - ECPv6.15.20//NONSGML v1.0//EN
CALSCALE:GREGORIAN
METHOD:PUBLISH
X-WR-CALNAME:City of Scranton
X-ORIGINAL-URL:https://scrantonpa.gov
X-WR-CALDESC:Events for City of Scranton
REFRESH-INTERVAL;VALUE=DURATION:PT1H
X-Robots-Tag:noindex
X-PUBLISHED-TTL:PT1H
BEGIN:VTIMEZONE
TZID:America/New_York
BEGIN:DAYLIGHT
TZOFFSETFROM:-0500
TZOFFSETTO:-0400
TZNAME:EDT
DTSTART:20220313T070000
END:DAYLIGHT
BEGIN:STANDARD
TZOFFSETFROM:-0400
TZOFFSETTO:-0500
TZNAME:EST
DTSTART:20221106T060000
END:STANDARD
BEGIN:DAYLIGHT
TZOFFSETFROM:-0500
TZOFFSETTO:-0400
TZNAME:EDT
DTSTART:20230312T070000
END:DAYLIGHT
BEGIN:STANDARD
TZOFFSETFROM:-0400
TZOFFSETTO:-0500
TZNAME:EST
DTSTART:20231105T060000
END:STANDARD
BEGIN:DAYLIGHT
TZOFFSETFROM:-0500
TZOFFSETTO:-0400
TZNAME:EDT
DTSTART:20240310T070000
END:DAYLIGHT
BEGIN:STANDARD
TZOFFSETFROM:-0400
TZOFFSETTO:-0500
TZNAME:EST
DTSTART:20241103T060000
END:STANDARD
END:VTIMEZONE
BEGIN:VEVENT
DTSTART;TZID=America/New_York:20231011T180000
DTEND;TZID=America/New_York:20231011T193000
DTSTAMP:20260420T220219
CREATED:20230925T172302Z
LAST-MODIFIED:20230925T172303Z
UID:33226-1697047200-1697052600@scrantonpa.gov
SUMMARY:Welcome Reception in Honor of the Commander of the USS Scranton
DESCRIPTION:In conjunction with the USS Scranton Commanders’ Commemoration Committee\, the City of Scranton will be welcoming Commanding Officer Jeffrey Ransom and five of his officers to the City. \n\n\n\nSpeakers will include Congressman Matt Cartwright\, Mayor Paige Cognetti\, C.O. Ransom\, President of the Greater Scranton Chamber of Commerce Bob Durkin\, USS Scranton Committee Chairman Matthew A. Berger\, Dean of the Geisinger Commonwealth School of Medicine Julie Byerley\, and Veteran’s Promise representative Patrick Heart. \n\n\n\nMembers of the public wishing to attend should RSVP to Committee member Liz Dengler at 570.575.3826. \n\n\n\nFor media inquiries\, contact Kaitlin Scott\, Executive Assistant to Mayor Cognetti\, at 570.780.1207. \n\n\n\nClick here to read the full press release.
URL:https://scrantonpa.gov/event/welcome-reception-in-honor-of-the-commander-of-the-uss-scranton/
LOCATION:Geisinger Commonwealth School of Medicine\, 525 Pine Street\, Scranton\, Pennsylvania\, 18510
CATEGORIES:City Events
END:VEVENT
BEGIN:VEVENT
DTSTART;TZID=America/New_York:20231011T180000
DTEND;TZID=America/New_York:20231011T210000
DTSTAMP:20260420T220219
CREATED:20230106T215512Z
LAST-MODIFIED:20230106T215513Z
UID:29195-1697047200-1697058000@scrantonpa.gov
SUMMARY:Zoning Hearing Board
DESCRIPTION:The Zoning Hearing Board will be held at 6:00 pm in the Council Chambers.
URL:https://scrantonpa.gov/event/zoning-hearing-board-14/
LOCATION:Council Chambers
CATEGORIES:City Events,Zoning Hearing Board
END:VEVENT
END:VCALENDAR