BEGIN:VCALENDAR
VERSION:2.0
PRODID:-//City of Scranton - ECPv6.15.20//NONSGML v1.0//EN
CALSCALE:GREGORIAN
METHOD:PUBLISH
X-ORIGINAL-URL:https://scrantonpa.gov
X-WR-CALDESC:Events for City of Scranton
REFRESH-INTERVAL;VALUE=DURATION:PT1H
X-Robots-Tag:noindex
X-PUBLISHED-TTL:PT1H
BEGIN:VTIMEZONE
TZID:America/New_York
BEGIN:DAYLIGHT
TZOFFSETFROM:-0500
TZOFFSETTO:-0400
TZNAME:EDT
DTSTART:20220313T070000
END:DAYLIGHT
BEGIN:STANDARD
TZOFFSETFROM:-0400
TZOFFSETTO:-0500
TZNAME:EST
DTSTART:20221106T060000
END:STANDARD
BEGIN:DAYLIGHT
TZOFFSETFROM:-0500
TZOFFSETTO:-0400
TZNAME:EDT
DTSTART:20230312T070000
END:DAYLIGHT
BEGIN:STANDARD
TZOFFSETFROM:-0400
TZOFFSETTO:-0500
TZNAME:EST
DTSTART:20231105T060000
END:STANDARD
BEGIN:DAYLIGHT
TZOFFSETFROM:-0500
TZOFFSETTO:-0400
TZNAME:EDT
DTSTART:20240310T070000
END:DAYLIGHT
BEGIN:STANDARD
TZOFFSETFROM:-0400
TZOFFSETTO:-0500
TZNAME:EST
DTSTART:20241103T060000
END:STANDARD
END:VTIMEZONE
BEGIN:VEVENT
DTSTART;TZID=America/New_York:20231028T100000
DTEND;TZID=America/New_York:20231028T120000
DTSTAMP:20260420T095935
CREATED:20231012T145546Z
LAST-MODIFIED:20231012T145730Z
UID:33470-1698487200-1698494400@scrantonpa.gov
SUMMARY:Connell Park Walking Club
DESCRIPTION:Weekly Walking Club that meets every Saturday 10:00 AM at Connell Park.  \n\n\n\nPart of National Walk with a Doc program\, where medical professionals walk and are available for questions.  \n\n\n\nMonthly prize drawings. All ages and skill levels welcome.
URL:https://scrantonpa.gov/event/connell-park-walking-club-21/
LOCATION:Connell Park\, 800 Gibbons Street\, Scranton\, Pennsylvania
CATEGORIES:City Events
END:VEVENT
BEGIN:VEVENT
DTSTART;TZID=America/New_York:20231028T170000
DTEND;TZID=America/New_York:20231028T181500
DTSTAMP:20260420T095935
CREATED:20231026T202923Z
LAST-MODIFIED:20231026T202924Z
UID:33761-1698512400-1698516900@scrantonpa.gov
SUMMARY:Thrill the World: Global Thriller Flash Mob
DESCRIPTION:A worldwide flash mob to Michael Jackson’s Thriller – open to all ages and experience levels. \n\n\n\nVisit ThrillScranton.com for full details.
URL:https://scrantonpa.gov/event/thrill-the-world-global-thriller-flash-mob-2/
LOCATION:The Scranton Cultural Center at the Masonic Temple\, 420 N Washington Ave\, Scranton\, Pennsylvania\, 18503\, United States
CATEGORIES:City Events
END:VEVENT
END:VCALENDAR