BEGIN:VCALENDAR
VERSION:2.0
PRODID:-//City of Scranton - ECPv6.15.20//NONSGML v1.0//EN
CALSCALE:GREGORIAN
METHOD:PUBLISH
X-ORIGINAL-URL:https://scrantonpa.gov
X-WR-CALDESC:Events for City of Scranton
REFRESH-INTERVAL;VALUE=DURATION:PT1H
X-Robots-Tag:noindex
X-PUBLISHED-TTL:PT1H
BEGIN:VTIMEZONE
TZID:America/New_York
BEGIN:DAYLIGHT
TZOFFSETFROM:-0500
TZOFFSETTO:-0400
TZNAME:EDT
DTSTART:20220313T070000
END:DAYLIGHT
BEGIN:STANDARD
TZOFFSETFROM:-0400
TZOFFSETTO:-0500
TZNAME:EST
DTSTART:20221106T060000
END:STANDARD
BEGIN:DAYLIGHT
TZOFFSETFROM:-0500
TZOFFSETTO:-0400
TZNAME:EDT
DTSTART:20230312T070000
END:DAYLIGHT
BEGIN:STANDARD
TZOFFSETFROM:-0400
TZOFFSETTO:-0500
TZNAME:EST
DTSTART:20231105T060000
END:STANDARD
BEGIN:DAYLIGHT
TZOFFSETFROM:-0500
TZOFFSETTO:-0400
TZNAME:EDT
DTSTART:20240310T070000
END:DAYLIGHT
BEGIN:STANDARD
TZOFFSETFROM:-0400
TZOFFSETTO:-0500
TZNAME:EST
DTSTART:20241103T060000
END:STANDARD
END:VTIMEZONE
BEGIN:VEVENT
DTSTART;TZID=America/New_York:20231110T000000
DTEND;TZID=America/New_York:20231111T235959
DTSTAMP:20260420T141344
CREATED:20231024T193438Z
LAST-MODIFIED:20231024T193440Z
UID:33727-1699574400-1699747199@scrantonpa.gov
SUMMARY:Lackawanna County's Household Hazardous Waste Disposal Event
DESCRIPTION:Join us for the Lackawanna Household Hazardous Waste Disposal Event on November 10th & 11th at PNC Field. \n\n\n\nLackawanna County residents can responsibly dispose of hazardous waste by pre-registering and selecting a time slot. \n\n\n\nPlease note that unregistered drop-offs and business disposals are not permitted. \n\n\n\nRegister or find out more by visiting lackawannacounty.org
URL:https://scrantonpa.gov/event/lackawanna-countys-household-hazardous-waste-disposal-event/
LOCATION:PNC Field\, 235 Montage Mountain Road\, Moosic\, Pennsylvania\, United States
CATEGORIES:City Events
END:VEVENT
END:VCALENDAR