BEGIN:VCALENDAR
VERSION:2.0
PRODID:-//City of Scranton - ECPv6.15.20//NONSGML v1.0//EN
CALSCALE:GREGORIAN
METHOD:PUBLISH
X-WR-CALNAME:City of Scranton
X-ORIGINAL-URL:https://scrantonpa.gov
X-WR-CALDESC:Events for City of Scranton
REFRESH-INTERVAL;VALUE=DURATION:PT1H
X-Robots-Tag:noindex
X-PUBLISHED-TTL:PT1H
BEGIN:VTIMEZONE
TZID:America/New_York
BEGIN:DAYLIGHT
TZOFFSETFROM:-0500
TZOFFSETTO:-0400
TZNAME:EDT
DTSTART:20220313T070000
END:DAYLIGHT
BEGIN:STANDARD
TZOFFSETFROM:-0400
TZOFFSETTO:-0500
TZNAME:EST
DTSTART:20221106T060000
END:STANDARD
BEGIN:DAYLIGHT
TZOFFSETFROM:-0500
TZOFFSETTO:-0400
TZNAME:EDT
DTSTART:20230312T070000
END:DAYLIGHT
BEGIN:STANDARD
TZOFFSETFROM:-0400
TZOFFSETTO:-0500
TZNAME:EST
DTSTART:20231105T060000
END:STANDARD
BEGIN:DAYLIGHT
TZOFFSETFROM:-0500
TZOFFSETTO:-0400
TZNAME:EDT
DTSTART:20240310T070000
END:DAYLIGHT
BEGIN:STANDARD
TZOFFSETFROM:-0400
TZOFFSETTO:-0500
TZNAME:EST
DTSTART:20241103T060000
END:STANDARD
END:VTIMEZONE
BEGIN:VEVENT
DTSTART;TZID=America/New_York:20231120T083000
DTEND;TZID=America/New_York:20231122T170000
DTSTAMP:20260420T100510
CREATED:20231012T143723Z
LAST-MODIFIED:20231012T143725Z
UID:33460-1700469000-1700672400@scrantonpa.gov
SUMMARY:47th Annual Thanksgiving Community Program
DESCRIPTION:Monday\, November 20\, 2023\n\nSet Up – 8:30 AM – 4:00 PM\n\n\n\n\n\nTuesday\, November 21\, 2023\n\nDinner – 2:30 PM – 5:30 PM\n\n\n\n\n\nWednesday\, November 22\, 2023\n\nFood Basket Event – 9:00 AM – 5:00 PM\n\n\n\n\n\n\nFriends of the Poor is proud to once again announce three community-based programs to help those in need this Thanksgiving. \n\n\n\nThe Thanksgiving Dinner for Adults and Elderly\, the Family-to-Family Thanksgiving Food Basket Program\, and the Interfaith Prayer Service.  \n\n\n\nIn light of the current pandemic\, the dinner and food basket program will be drive-through once again. 
URL:https://scrantonpa.gov/event/47th-annual-thanksgiving-community-program/
LOCATION:Scranton Cultural Center\, 420 N. Washington Ave.\, Scranton\, Pennsylvania\, 18503
CATEGORIES:City Events
ORGANIZER;CN="Friends of the Poor":MAILTO:friendsofthepoor@fotp-ihm.org
END:VEVENT
BEGIN:VEVENT
DTSTART;TZID=America/New_York:20231122T150000
DTEND;TZID=America/New_York:20231122T180000
DTSTAMP:20260420T100510
CREATED:20231115T174256Z
LAST-MODIFIED:20231115T174257Z
UID:34051-1700665200-1700676000@scrantonpa.gov
SUMMARY:Annual Times Tower Lighting & Fireworks
DESCRIPTION:The annual radio tower lighting & fireworks is happening November 22! \n\n\n\nA special fireworks display will go off at 6:00 PM when Santa lights the tower to usher in the Holiday Season. Rock 107 host\, Prospector\, will emcee this family-friendly night.  \n\n\n\nA variety of food trucks and street vendors will also be in appearance for this event!
URL:https://scrantonpa.gov/event/annual-times-tower-lighting-fireworks/
LOCATION:The Scranton Times Tribune\, 149 Penn Avenue\, Scranton\, Pennsylvania\, 18503\, United States
CATEGORIES:City Events
ORGANIZER;CN="The Scranton Times Tribune":MAILTO:contactus_tt@scrantontimes.com
END:VEVENT
END:VCALENDAR