BEGIN:VCALENDAR
VERSION:2.0
PRODID:-//City of Scranton - ECPv6.15.20//NONSGML v1.0//EN
CALSCALE:GREGORIAN
METHOD:PUBLISH
X-ORIGINAL-URL:https://scrantonpa.gov
X-WR-CALDESC:Events for City of Scranton
REFRESH-INTERVAL;VALUE=DURATION:PT1H
X-Robots-Tag:noindex
X-PUBLISHED-TTL:PT1H
BEGIN:VTIMEZONE
TZID:America/New_York
BEGIN:DAYLIGHT
TZOFFSETFROM:-0500
TZOFFSETTO:-0400
TZNAME:EDT
DTSTART:20220313T070000
END:DAYLIGHT
BEGIN:STANDARD
TZOFFSETFROM:-0400
TZOFFSETTO:-0500
TZNAME:EST
DTSTART:20221106T060000
END:STANDARD
BEGIN:DAYLIGHT
TZOFFSETFROM:-0500
TZOFFSETTO:-0400
TZNAME:EDT
DTSTART:20230312T070000
END:DAYLIGHT
BEGIN:STANDARD
TZOFFSETFROM:-0400
TZOFFSETTO:-0500
TZNAME:EST
DTSTART:20231105T060000
END:STANDARD
BEGIN:DAYLIGHT
TZOFFSETFROM:-0500
TZOFFSETTO:-0400
TZNAME:EDT
DTSTART:20240310T070000
END:DAYLIGHT
BEGIN:STANDARD
TZOFFSETFROM:-0400
TZOFFSETTO:-0500
TZNAME:EST
DTSTART:20241103T060000
END:STANDARD
END:VTIMEZONE
BEGIN:VEVENT
DTSTART;TZID=America/New_York:20231219T090000
DTEND;TZID=America/New_York:20231219T160000
DTSTAMP:20260419T214734
CREATED:20231215T173226Z
LAST-MODIFIED:20231215T173227Z
UID:34580-1702976400-1703001600@scrantonpa.gov
SUMMARY:Family to Family Christmas Food Basket Giveaway
DESCRIPTION:The Friends of the Poor Family to Family Christmas Food Basket Giveaway will be held December 19th from 9AM – 4PM in front of the Scranton Cultural Center.  \n\n\n\nIt will be drive-through or walk-up event.  \n\n\n\nNo pre-registration or documentation required. 
URL:https://scrantonpa.gov/event/family-to-family-christmas-food-basket-giveaway-2/
LOCATION:Outside the Scranton Cultural Center at the Masonic Temple\, 420 N. Washington Avenue\, Scranton\, 18503
CATEGORIES:City Events
ORGANIZER;CN="Friends of the Poor":MAILTO:friendsofthepoor@fotp-ihm.org
END:VEVENT
END:VCALENDAR