BEGIN:VCALENDAR
VERSION:2.0
PRODID:-//City of Scranton - ECPv6.15.20//NONSGML v1.0//EN
CALSCALE:GREGORIAN
METHOD:PUBLISH
X-ORIGINAL-URL:https://scrantonpa.gov
X-WR-CALDESC:Events for City of Scranton
REFRESH-INTERVAL;VALUE=DURATION:PT1H
X-Robots-Tag:noindex
X-PUBLISHED-TTL:PT1H
BEGIN:VTIMEZONE
TZID:America/New_York
BEGIN:DAYLIGHT
TZOFFSETFROM:-0500
TZOFFSETTO:-0400
TZNAME:EDT
DTSTART:20230312T070000
END:DAYLIGHT
BEGIN:STANDARD
TZOFFSETFROM:-0400
TZOFFSETTO:-0500
TZNAME:EST
DTSTART:20231105T060000
END:STANDARD
BEGIN:DAYLIGHT
TZOFFSETFROM:-0500
TZOFFSETTO:-0400
TZNAME:EDT
DTSTART:20240310T070000
END:DAYLIGHT
BEGIN:STANDARD
TZOFFSETFROM:-0400
TZOFFSETTO:-0500
TZNAME:EST
DTSTART:20241103T060000
END:STANDARD
BEGIN:DAYLIGHT
TZOFFSETFROM:-0500
TZOFFSETTO:-0400
TZNAME:EDT
DTSTART:20250309T070000
END:DAYLIGHT
BEGIN:STANDARD
TZOFFSETFROM:-0400
TZOFFSETTO:-0500
TZNAME:EST
DTSTART:20251102T060000
END:STANDARD
END:VTIMEZONE
BEGIN:VEVENT
DTSTART;TZID=America/New_York:20240123T080000
DTEND;TZID=America/New_York:20240214T170000
DTSTAMP:20260419T201807
CREATED:20240125T193116Z
LAST-MODIFIED:20240125T193146Z
UID:34928-1705996800-1707930000@scrantonpa.gov
SUMMARY:Garden of Cedar Valentine Project
DESCRIPTION:The Garden of Cedar is a unique and functional urban community park and children’s discovery area. During the weeks leading up to Valentine’s Day\, the Garden of Cedar accepts inscriptions and messages from the community to be planted in the garden. This year\, they have a goal of planting 2000 hearts\, and you can submit your own wish here.  \n\n\n\nThere is no charge to plant a Valentine.
URL:https://scrantonpa.gov/event/garden-of-cedar-valentine-project/
LOCATION:Garden of Cedar\, 715 Cedar Avenue\, Scranton\, Pennsylvania
CATEGORIES:City Events
END:VEVENT
BEGIN:VEVENT
DTSTART;TZID=America/New_York:20240203T100000
DTEND;TZID=America/New_York:20240203T120000
DTSTAMP:20260419T201807
CREATED:20231016T144845Z
LAST-MODIFIED:20231016T144846Z
UID:33521-1706954400-1706961600@scrantonpa.gov
SUMMARY:Connell Park Walking Club
DESCRIPTION:Weekly Walking Club that meets every Saturday 10:00 AM at Connell Park.  \n\n\n\nPart of National Walk with a Doc program\, where medical professionals walk and are available for questions.  \n\n\n\nMonthly prize drawings. All ages and skill levels welcome.
URL:https://scrantonpa.gov/event/connell-park-walking-club-34/
LOCATION:Connell Park\, 800 Gibbons Street\, Scranton\, Pennsylvania
CATEGORIES:City Events,Parks & Recreation
END:VEVENT
BEGIN:VEVENT
DTSTART;TZID=America/New_York:20240203T123000
DTEND;TZID=America/New_York:20240203T133000
DTSTAMP:20260419T201807
CREATED:20240131T202853Z
LAST-MODIFIED:20240131T202854Z
UID:34983-1706963400-1706967000@scrantonpa.gov
SUMMARY:Black History Month Flag Raising
DESCRIPTION:Join City Officials and the Black Scranton Project to raise the Pan-African Flag at City Hall to kick off Black History Month.
URL:https://scrantonpa.gov/event/black-history-month-flag-raising/
LOCATION:Scranton City Hall\, 340 N Washington Ave\, Scranton\, Pennsylvania\, 18503\, United States
CATEGORIES:City Events
END:VEVENT
END:VCALENDAR