BEGIN:VCALENDAR
VERSION:2.0
PRODID:-//City of Scranton - ECPv6.15.20//NONSGML v1.0//EN
CALSCALE:GREGORIAN
METHOD:PUBLISH
X-ORIGINAL-URL:https://scrantonpa.gov
X-WR-CALDESC:Events for City of Scranton
REFRESH-INTERVAL;VALUE=DURATION:PT1H
X-Robots-Tag:noindex
X-PUBLISHED-TTL:PT1H
BEGIN:VTIMEZONE
TZID:America/New_York
BEGIN:DAYLIGHT
TZOFFSETFROM:-0500
TZOFFSETTO:-0400
TZNAME:EDT
DTSTART:20210314T070000
END:DAYLIGHT
BEGIN:STANDARD
TZOFFSETFROM:-0400
TZOFFSETTO:-0500
TZNAME:EST
DTSTART:20211107T060000
END:STANDARD
BEGIN:DAYLIGHT
TZOFFSETFROM:-0500
TZOFFSETTO:-0400
TZNAME:EDT
DTSTART:20220313T070000
END:DAYLIGHT
BEGIN:STANDARD
TZOFFSETFROM:-0400
TZOFFSETTO:-0500
TZNAME:EST
DTSTART:20221106T060000
END:STANDARD
BEGIN:DAYLIGHT
TZOFFSETFROM:-0500
TZOFFSETTO:-0400
TZNAME:EDT
DTSTART:20230312T070000
END:DAYLIGHT
BEGIN:STANDARD
TZOFFSETFROM:-0400
TZOFFSETTO:-0500
TZNAME:EST
DTSTART:20231105T060000
END:STANDARD
BEGIN:DAYLIGHT
TZOFFSETFROM:-0500
TZOFFSETTO:-0400
TZNAME:EDT
DTSTART:20240310T070000
END:DAYLIGHT
BEGIN:STANDARD
TZOFFSETFROM:-0400
TZOFFSETTO:-0500
TZNAME:EST
DTSTART:20241103T060000
END:STANDARD
END:VTIMEZONE
BEGIN:VEVENT
DTSTART;TZID=America/New_York:20220813T090000
DTEND;TZID=America/New_York:20220813T100000
DTSTAMP:20260421T185552
CREATED:20220426T194551Z
LAST-MODIFIED:20220426T194552Z
UID:22093-1660381200-1660384800@scrantonpa.gov
SUMMARY:Scranton 4 Ukraine 5K
DESCRIPTION:Non profit foot race to benefit Ukrainian refugees
URL:https://scrantonpa.gov/event/scranton-4-ukraine-5k/
LOCATION:Heritage Trail\, Olive Street\, Scranton\, Pennsylvania\, 18508
CATEGORIES:City Events
END:VEVENT
BEGIN:VEVENT
DTSTART;TZID=America/New_York:20220827T100000
DTEND;TZID=America/New_York:20220827T130000
DTSTAMP:20260421T185552
CREATED:20220815T154234Z
LAST-MODIFIED:20220815T154235Z
UID:25713-1661594400-1661605200@scrantonpa.gov
SUMMARY:Outreach - Children's Career Fair
DESCRIPTION:An event to provide children the opportunity to learn about careers in their future. A variety ofcareer options will be represented by approximately 20 organizations that will provide information andhands on activities that introduce children to future career opportunities
URL:https://scrantonpa.gov/event/outreach-childrens-career-fair/
LOCATION:Outreach – Center for Community Resources\, 431 N. 7th Ave.\, Scranton\, Pennsylvania\, 18503
CATEGORIES:City Events
END:VEVENT
BEGIN:VEVENT
DTSTART;TZID=America/New_York:20220827T120000
DTEND;TZID=America/New_York:20220828T140000
DTSTAMP:20260421T185552
CREATED:20220621T185407Z
LAST-MODIFIED:20220621T185408Z
UID:23763-1661601600-1661695200@scrantonpa.gov
SUMMARY:The Electric City Classic
DESCRIPTION:Saturday\, August 27 | 12:00 PM – 8:00 PMSunday\, August 28 | 11:00 AM – 2:00 PM\n\n\n\nSaturday\, August 27: Downtown Scranton Professional & Amateur Criterium Bike Race on a closed course. Sunday\, August 28: Hill Section of Scranton Professional\, Amateur\, and Community Hill Climb Bike Races. Both event days are community and spectator events and will also incorporate foot races for the running community.
URL:https://scrantonpa.gov/event/the-electric-city-classic/
LOCATION:Downtown Scranton/Hill Section of Scranton
CATEGORIES:City Events
END:VEVENT
BEGIN:VEVENT
DTSTART;TZID=America/New_York:20220828T090000
DTEND;TZID=America/New_York:20220828T180000
DTSTAMP:20260421T185552
CREATED:20220711T154556Z
LAST-MODIFIED:20220711T154557Z
UID:24308-1661677200-1661709600@scrantonpa.gov
SUMMARY:Never Forgotten Motorcycle Ride
DESCRIPTION:Our event features a beautiful motorcycle ride through Northeastern PA. After the ride we offer food\, basket raffles\, and entertainment. Proceeds benefit first responders in need. Thus far\, we have donated thousands of dollars to police officers\, sheriffs\, and EMTs in need.
URL:https://scrantonpa.gov/event/never-forgotten-motorcycle-ride/
LOCATION:524 Court St.\, Scranton\, Pennsylvania\, 18508
CATEGORIES:City Events
END:VEVENT
BEGIN:VEVENT
DTSTART;TZID=America/New_York:20220902T124500
DTEND;TZID=America/New_York:20220902T150000
DTSTAMP:20260421T185552
CREATED:20220729T184029Z
LAST-MODIFIED:20220729T184030Z
UID:25133-1662122700-1662130800@scrantonpa.gov
SUMMARY:Scranton Prep Student Body Luncheon
DESCRIPTION:A luncheon for the whole student body at Loyola Field.
URL:https://scrantonpa.gov/event/scranton-prep-student-body-luncheon/
LOCATION:Loyola Field at Scranton Preparatory School\, 1000 Wyoming Avenue\, Scranton\, Pennsylvania\, 18509
CATEGORIES:City Events
END:VEVENT
BEGIN:VEVENT
DTSTART;TZID=America/New_York:20220902T160000
DTEND;TZID=America/New_York:20220902T220000
DTSTAMP:20260421T185552
CREATED:20220823T195952Z
LAST-MODIFIED:20220831T165123Z
UID:26141-1662134400-1662156000@scrantonpa.gov
SUMMARY:La Festa Italiana
DESCRIPTION:La Festa Italiana\, the annual celebration of food\, culture and music\, will be held LaborDay weekend (Friday through Monday\, September 2-5\, 2022) on Courthouse Square in theheart of downtown Scranton\, Pa. Hours are Friday\, 4 p.m. to 10 p.m.; Saturday and Sunday11 a.m. to 10 p.m.; Monday 11 a.m. to 8 p.m.
URL:https://scrantonpa.gov/event/la-festa-italiana-2/
LOCATION:Lackawanna County Courthouse Square\, 200 N. Washington Ave.\, Scranton\, 18503
CATEGORIES:City Events
END:VEVENT
BEGIN:VEVENT
DTSTART;TZID=America/New_York:20220907T130000
DTEND;TZID=America/New_York:20220907T150000
DTSTAMP:20260421T185552
CREATED:20220902T191452Z
LAST-MODIFIED:20220902T191453Z
UID:26666-1662555600-1662562800@scrantonpa.gov
SUMMARY:Geisinger Commonwealth Day
DESCRIPTION:Join us for the installation ceremony of Geisinger Commonwealth School of Medicine’s new president and dean\, Julie Byerley\, MD\, MPH.
URL:https://scrantonpa.gov/event/geisinger-commonwealth-day/
LOCATION:Geisinger Commonwealth School of Medicine\, 525 Pine Street\, Scranton\, Pennsylvania\, 18510
CATEGORIES:City Events
END:VEVENT
BEGIN:VEVENT
DTSTART;TZID=America/New_York:20220911T120000
DTEND;TZID=America/New_York:20220911T143000
DTSTAMP:20260421T185552
CREATED:20220613T182159Z
LAST-MODIFIED:20220613T182200Z
UID:23406-1662897600-1662906600@scrantonpa.gov
SUMMARY:Scranton Recovery Walk 2022
DESCRIPTION:This event is intended to raise awareness to reduce stigma of substance use disorder. It is to celebrate recovery.
URL:https://scrantonpa.gov/event/scranton-recovery-walk-2022/
LOCATION:415 N. 8th Ave. to 120 Wyoming Ave.\, Scranton\, Pennsylvania\, 18503
CATEGORIES:City Events
END:VEVENT
BEGIN:VEVENT
DTSTART;TZID=America/New_York:20220918T120000
DTEND;TZID=America/New_York:20220918T190000
DTSTAMP:20260421T185552
CREATED:20220912T173157Z
LAST-MODIFIED:20220912T173158Z
UID:27057-1663502400-1663527600@scrantonpa.gov
SUMMARY:St. Ann Maronite Church Annual Heritage Day
DESCRIPTION:27th Annual Lebanese Food Festival with authentic Lebanese cuisine and pastry. There will be outdoor seating available from 12:00 PM until 7:00 PM and take out options.
URL:https://scrantonpa.gov/event/st-ann-maronite-church-annual-heritage-day/
LOCATION:St. Ann Maronite Church\, 1320 Price St.\, Scranton\, 18504
CATEGORIES:City Events
END:VEVENT
BEGIN:VEVENT
DTSTART;TZID=America/New_York:20220924T090000
DTEND;TZID=America/New_York:20220924T110000
DTSTAMP:20260421T185552
CREATED:20220922T192950Z
LAST-MODIFIED:20220922T192951Z
UID:27482-1664010000-1664017200@scrantonpa.gov
SUMMARY:Allied Services 5k & All Abilities Walk
DESCRIPTION:Allied Services is ready to celebrate with one of our favorite events of the year – the 5k &All-Abilities Walk presented by Aon and Quantum Rehab.  \n\n\n\nRun\, Walk or Cheer! You don’t have to be a speed demon to enjoy the 5k & All-Abilities Walk.Turn out to walk or run in the 5k\, or simply cheer on our participants. This day is a celebration –we’d love you to join us. Here’s what you need to know. \n\n\n\n5K Run/WalkThe 5k is open to runners and walkers of all ages. It begins at 9:00 a.m. on the track at VeteransMemorial Stadium in Scranton. This is an out-and-back course that takes you along the pavedLackawanna Heritage Trail before ending back on the track at Veterans Memorial Stadium. Thecourse is stroller and wheelchair-friendly. \n\n\n\nAll-Abilities Walk \n\n\n\nIt’s a celebration! Please join us in cheering on our patients and residents as they markmilestones in their recovery or rehab. The All-Abilities Walk will take place at approximately10:00 a.m. following the 5k and awards ceremony. It is completely free\, open to all ages andabilities\, and no registration is required. For more information contact Charlotte Wright at 570-348-1275 or cwrigh@allied-services.org.
URL:https://scrantonpa.gov/event/allied-services-5k-all-abilities-walk/
LOCATION:Valor Field at Veterans Memorial Stadium\, 816 Providence Rd.\, Scranton\, Pennsylvania\, 18508
CATEGORIES:City Events
END:VEVENT
BEGIN:VEVENT
DTSTART;TZID=America/New_York:20220924T120000
DTEND;TZID=America/New_York:20220924T220000
DTSTAMP:20260421T185552
CREATED:20220902T193159Z
LAST-MODIFIED:20220902T193200Z
UID:26670-1664020800-1664056800@scrantonpa.gov
SUMMARY:Oktoberfest
DESCRIPTION:Oktoberfest with live entertainment and German fare.
URL:https://scrantonpa.gov/event/oktoberfest/
LOCATION:Andy Gavin’s Eatery & Pub\, 500 New York Street\, Scranton\, 18509
CATEGORIES:City Events
END:VEVENT
BEGIN:VEVENT
DTSTART;TZID=America/New_York:20220925T090000
DTEND;TZID=America/New_York:20220925T170000
DTSTAMP:20260421T185552
CREATED:20220525T180829Z
LAST-MODIFIED:20220525T180830Z
UID:22729-1664096400-1664125200@scrantonpa.gov
SUMMARY:Tour De Scranton 18
DESCRIPTION:Non profit bike ride and walk\, offering a variety of routes\, appealing to novices\, families\, and experienced riders. Money raised helps area people with substance abuse disorder.
URL:https://scrantonpa.gov/event/tour-de-scranton-18/
LOCATION:Scranton High School\, 63 Mike Munchak Way\, Scranton\, 18508
CATEGORIES:City Events
END:VEVENT
BEGIN:VEVENT
DTSTART;TZID=America/New_York:20221001T100000
DTEND;TZID=America/New_York:20221001T150000
DTSTAMP:20260421T185552
CREATED:20220922T190943Z
LAST-MODIFIED:20220922T190944Z
UID:27478-1664618400-1664636400@scrantonpa.gov
SUMMARY:Craft Fair
DESCRIPTION:Proceeds will benefit the construction of an All-Inclusive Playground for all to enjoy!
URL:https://scrantonpa.gov/event/craft-fair/
LOCATION:Nay Aug Park\, 500 Arthur Ave.\, Scranton\, Pennsylvania\, 18510
CATEGORIES:City Events
END:VEVENT
BEGIN:VEVENT
DTSTART;TZID=America/New_York:20221001T110000
DTEND;TZID=America/New_York:20221001T160000
DTSTAMP:20260421T185552
CREATED:20220729T183647Z
LAST-MODIFIED:20220729T183648Z
UID:25129-1664622000-1664640000@scrantonpa.gov
SUMMARY:Johnson College Fall Fest & Cornhole Tournament
DESCRIPTION:The inaugural Johnson College Fall Fest will take place on campus from 11:00 AM to 4:00 PM and will include: family games\, kids’ crafts\, scavenger hunt\, live music\, artisan and craft vendors\, lab demonstrations\, and a cornhole tournament in the gym. Free admission and plenty of parking on campus.
URL:https://scrantonpa.gov/event/johnson-college-fall-fest-cornhole-tournament/
LOCATION:Johnson College\, 3427 N. Main Ave.\, Scranton\, Pennsylvania\, 18508
CATEGORIES:City Events
END:VEVENT
BEGIN:VEVENT
DTSTART;TZID=America/New_York:20221009T080000
DTEND;TZID=America/New_York:20221009T150000
DTSTAMP:20260421T185552
CREATED:20220525T181814Z
LAST-MODIFIED:20220525T181816Z
UID:22733-1665302400-1665327600@scrantonpa.gov
SUMMARY:25th Running of the Steamtown Marathon
DESCRIPTION:USATF-Certified\, 26.2 mile road race
URL:https://scrantonpa.gov/event/25th-running-of-the-steamtown-marathon/
LOCATION:Streets of Scranton
CATEGORIES:City Events
END:VEVENT
BEGIN:VEVENT
DTSTART;TZID=America/New_York:20221019T110000
DTEND;TZID=America/New_York:20221021T180000
DTSTAMP:20260421T185552
CREATED:20220902T191024Z
LAST-MODIFIED:20220902T191025Z
UID:26655-1666177200-1666375200@scrantonpa.gov
SUMMARY:Scranton Fall Greek Food Festival
DESCRIPTION:Ethnic Greek Food Festival. Festival is from October 19th to October 21st 11:00 AM to 6:00 PM
URL:https://scrantonpa.gov/event/scranton-fall-greek-food-festival/
LOCATION:Annunciation Greek Orthodox Church\, 505 N. Washington Avenue\, Scranton\, Pennsylvania\, 18509
CATEGORIES:City Events
END:VEVENT
BEGIN:VEVENT
DTSTART;TZID=America/New_York:20221022T120000
DTEND;TZID=America/New_York:20221022T150000
DTSTAMP:20260421T185552
CREATED:20220902T193602Z
LAST-MODIFIED:20220902T193605Z
UID:26676-1666440000-1666450800@scrantonpa.gov
SUMMARY:West Scranton Fall Festival
DESCRIPTION:This is a two part event: half is at Clover Field and half is at Allen Park. The Clover Field event will have kids games\, contests\, activities\, and food trucks.
URL:https://scrantonpa.gov/event/west-scranton-fall-festival/
LOCATION:Clover Field\, 400 W. Locust Street\, Scranton\, Pennsylvania\, 18504
CATEGORIES:City Events
END:VEVENT
BEGIN:VEVENT
DTSTART;TZID=America/New_York:20221022T130000
DTEND;TZID=America/New_York:20221022T140000
DTSTAMP:20260421T185552
CREATED:20221017T190223Z
LAST-MODIFIED:20221017T190225Z
UID:28073-1666443600-1666447200@scrantonpa.gov
SUMMARY:Victory 4 Ukraine Walk
DESCRIPTION:Awareness Walk for war in Ukraine
URL:https://scrantonpa.gov/event/victory-4-ukraine-walk/
LOCATION:Courthouse Square\, 200 North Washington Avenue\, Scranton\, Pennsylvania\, 18503
CATEGORIES:City Events
ORGANIZER;CN="Scranton 4 Ukraine Association":MAILTO:scranton4ukraine@gmail.com
END:VEVENT
BEGIN:VEVENT
DTSTART;TZID=America/New_York:20221022T180000
DTEND;TZID=America/New_York:20221022T210000
DTSTAMP:20260421T185552
CREATED:20220902T194303Z
LAST-MODIFIED:20220902T194304Z
UID:26682-1666461600-1666472400@scrantonpa.gov
SUMMARY:West Scranton Fall Festival
DESCRIPTION:This is a two part event: half is at Clover Field and half is at Allen Park. The Allen Park event will have live music and smores.
URL:https://scrantonpa.gov/event/west-scranton-fall-festival-2/
LOCATION:Allen Park\, Price Street and N. Main Avenue\, Scranton\, Pennsylvania\, 18504
CATEGORIES:City Events
END:VEVENT
BEGIN:VEVENT
DTSTART;TZID=America/New_York:20221029T140000
DTEND;TZID=America/New_York:20221029T170000
DTSTAMP:20260421T185552
CREATED:20220729T190339Z
LAST-MODIFIED:20220729T190340Z
UID:25135-1667052000-1667062800@scrantonpa.gov
SUMMARY:Third Annual Enchanted Trunk or Treat
DESCRIPTION:A safe and fun alternative to traditional trick-or-treating. Over 50 trunk hosts\, a variety of games and activities\, entertainment\, costume contests and more fill the 200 block of Wyoming Avenue.
URL:https://scrantonpa.gov/event/third-annual-enchanted-trunk-or-treat/
LOCATION:222 Wyoming Ave.\, Scranton\, Pennsylvania\, 18503
CATEGORIES:City Events
END:VEVENT
BEGIN:VEVENT
DTSTART;TZID=America/New_York:20221029T170000
DTEND;TZID=America/New_York:20221029T183000
DTSTAMP:20260421T185552
CREATED:20221017T184508Z
LAST-MODIFIED:20221017T184510Z
UID:28065-1667062800-1667068200@scrantonpa.gov
SUMMARY:Thrill the World: Global Thriller Flash Mob
DESCRIPTION:Thrill the World is a global flash mob to Michael Jackson’s Thriller. The event is open to all ages andserves as a fundraiser to support the historic Scranton Cultural Center at the Masonic Temple. Fordetails\, thrillscranton.com
URL:https://scrantonpa.gov/event/thrill-the-world-global-thriller-flash-mob/
LOCATION:Scranton Cultural Center at the Masonic Temple\, 420 N. Washington Ave.\, Scranton\, Pennsylvania\, 18503
CATEGORIES:City Events
END:VEVENT
BEGIN:VEVENT
DTSTART;TZID=America/New_York:20221105T100000
DTEND;TZID=America/New_York:20221106T150000
DTSTAMP:20260421T185552
CREATED:20221011T143335Z
LAST-MODIFIED:20221011T143459Z
UID:27949-1667642400-1667746800@scrantonpa.gov
SUMMARY:Pet Food/Accessories Drive
DESCRIPTION:November 5th and 6th from 10:00 am – 3:00 pm \n\n\n\nDrop off is at the Community Room in pool area by big parking lot.
URL:https://scrantonpa.gov/event/pet-food-accessories-drive/
LOCATION:Nay Aug Park\, 500 Arthur Ave.\, Scranton\, Pennsylvania\, 18510
CATEGORIES:City Events
END:VEVENT
BEGIN:VEVENT
DTSTART;TZID=America/New_York:20221106T080000
DTEND;TZID=America/New_York:20221106T120000
DTSTAMP:20260421T185552
CREATED:20221017T185114Z
LAST-MODIFIED:20221017T185115Z
UID:28069-1667721600-1667736000@scrantonpa.gov
SUMMARY:Turkey Trot 2022
DESCRIPTION:The Turkey Trot 5/10k will be the 14th annual race in Scranton. This race is a partnership betweenGeisinger Commonwealth School of Medicine and Friends of the Poor – Scranton\, which providesfood\, housing\, clothing\, and more to those in need within the NEPA valley.
URL:https://scrantonpa.gov/event/turkey-trot-2022/
LOCATION:Downtown Scranton along the Lackawanna River Heritage Trail
CATEGORIES:City Events
END:VEVENT
BEGIN:VEVENT
DTSTART;TZID=America/New_York:20221112T090000
DTEND;TZID=America/New_York:20221112T130000
DTSTAMP:20260421T185552
CREATED:20221017T183231Z
LAST-MODIFIED:20221017T183233Z
UID:28055-1668243600-1668258000@scrantonpa.gov
SUMMARY:Run Against Hunger
DESCRIPTION:The Scranton Running Company will be holding it’s annual Run Against Hunger 5k/10k race and 2mile fun walk on the Lackawanna River Heritage Trail starting and ending at the Scranton HalfMarathon pavilion.
URL:https://scrantonpa.gov/event/run-against-hunger/
LOCATION:Lackawanna River Heritage Trail\, Olive St. Trailhead.
CATEGORIES:City Events
ORGANIZER;CN="Scranton Running Company":MAILTO:info@scrantonrunning.com
END:VEVENT
BEGIN:VEVENT
DTSTART;TZID=America/New_York:20221119T091500
DTEND;TZID=America/New_York:20221119T120000
DTSTAMP:20260421T185552
CREATED:20221017T183917Z
LAST-MODIFIED:20221017T183919Z
UID:28061-1668849300-1668859200@scrantonpa.gov
SUMMARY:Santa Parade
DESCRIPTION:This parade was established in 1993 and is a local holiday favorite. This parade includes bands\,floats\, balloons and walking units. The parade ends with Santa Claus.
URL:https://scrantonpa.gov/event/santa-parade-2/
LOCATION:Downtown Scranton
CATEGORIES:City Events
END:VEVENT
BEGIN:VEVENT
DTSTART;TZID=America/New_York:20221122T143000
DTEND;TZID=America/New_York:20221123T170000
DTSTAMP:20260421T185552
CREATED:20221017T182124Z
LAST-MODIFIED:20221017T182125Z
UID:28049-1669127400-1669222800@scrantonpa.gov
SUMMARY:46th Annual Thanksgiving Community Program
DESCRIPTION:Friends of the Poor is proud to once again announce three community-based programs to helpthose in need this Thanksgiving: The Thanksgiving Dinner for Adults and Elderly\, the Family toFamily Thanksgiving Food Basket Program\, and the Interfaith Prayer Service. In light of the currentpandemic\, the dinner and food basket program will be drive-through once again. The Thanksgiving Dinner will be served take-out style on Tuesday\, Nov. 22\, outside the Scranton Cultural Center\, 420 North Washington Ave.\, Scranton\, from 2:30 p.m. to 5:30 p.m. The Family to Family Thanksgiving Food Basket Program\, under the direction of the Robeson family\, takes over the Scranton Cultural Center the next morning on Wednesday\, Nov. 23. Beginning at 9 a.m. and concluding at 5 p.m. Outside the center\, families will be provided with all the grocery items needed to prepare a traditional Thanksgiving meal in the comfort of their homes.
URL:https://scrantonpa.gov/event/46th-annual-thanksgiving-community-program/
LOCATION:Scranton Cultural Center\, 420 N. Washington Ave.\, Scranton\, Pennsylvania\, 18503
CATEGORIES:City Events
ORGANIZER;CN="Friends of the Poor":MAILTO:friendsofthepoor@fotp-ihm.org
END:VEVENT
BEGIN:VEVENT
DTSTART;TZID=America/New_York:20230112T173000
DTEND;TZID=America/New_York:20230112T203000
DTSTAMP:20260421T185552
CREATED:20230106T220255Z
LAST-MODIFIED:20230106T220256Z
UID:29201-1673544600-1673555400@scrantonpa.gov
SUMMARY:Historical Architectural Review Board
DESCRIPTION:
URL:https://scrantonpa.gov/event/historical-architectural-review-board/
LOCATION:Council Chambers
CATEGORIES:City Events
END:VEVENT
BEGIN:VEVENT
DTSTART;TZID=America/New_York:20230114T100000
DTEND;TZID=America/New_York:20230114T130000
DTSTAMP:20260421T185552
CREATED:20230111T153549Z
LAST-MODIFIED:20230111T153551Z
UID:29273-1673690400-1673701200@scrantonpa.gov
SUMMARY:Shiver by the River #1
DESCRIPTION:The Scranton Running Company will be hosting its annual Shiver by the River race series which includes a 5k/10k run and a 2-mile walk on the Lackawanna River Heritage Trail.
URL:https://scrantonpa.gov/event/shiver-by-the-river-1/
LOCATION:Lackawanna River Heritage Trail\, Olive Street Trailhead
CATEGORIES:City Events
END:VEVENT
BEGIN:VEVENT
DTSTART;TZID=America/New_York:20230125T180000
DTEND;TZID=America/New_York:20230125T210000
DTSTAMP:20260421T185552
CREATED:20230106T211424Z
LAST-MODIFIED:20230123T171452Z
UID:29169-1674669600-1674680400@scrantonpa.gov
SUMMARY:*POSTPONED* Zoning Hearing Board
DESCRIPTION:The January 2023 meeting of the Zoning Hearing Board has been postponed until next month’s meeting\, which will be held on Wednesday\, February 8th\, 2023 at 6pm.
URL:https://scrantonpa.gov/event/zoning-hearing-board-4/
LOCATION:Council Chambers
CATEGORIES:City Events,Zoning Hearing Board
END:VEVENT
BEGIN:VEVENT
DTSTART;TZID=America/New_York:20230208T180000
DTEND;TZID=America/New_York:20230208T210000
DTSTAMP:20260421T185552
CREATED:20230106T212131Z
LAST-MODIFIED:20230202T212935Z
UID:29172-1675879200-1675890000@scrantonpa.gov
SUMMARY:Zoning Hearing Board
DESCRIPTION:The Zoning Hearing Board of the City of Scranton hereby gives notice that it will conduct a public hearing at City Hall\, 340 N. Washington Ave.\, City Council Chambers (2nd Floor) on Wednesday\, FEBRUARY 8\, 2023\, AT 6:00 PM. to consider\, deliberate\, discuss and/or take official action on any matter that may lawfully come before it and to consider and take action on the following applications: \n\n\n\n1. Electric City Solar Initiative II LLC\, seeks an interpretation/ Zoning Hearing Board approval under Section 105.B. Uses Not Specifically Regulated\, to construct a solar array on a 73 Acre site located in the rear of the 800 Blk. of N Keyser Ave. off Graham St. (Parcel # 13304020012) C-G and R-1 Zones) \n\n\n\n2. Electric City Development LLC seeks variance for the development of a 24-unit apartment building and for a reduction in required parking from 1.5 to 1 space per unit at 315 Popular St. C-G zone. \n\n\n\n3. 722 Cherry St LLC seeks variance to add 5th unit to 722 Cherry St. R-1A Zone. \n\n\n\n4. Madelyn Heisler seeks variance to use 1/2 of double home as hair salon. 237 N Cameron Ave. R-1A zone. \n\n\n\n5. Rosalind Davis seeks variance to add additional driveways on left and right side of home in addition to existing driveway. 1424 Rundle St. R-1A Zone. \n\n\n\n6. Meike Lengkey seeks variance to establish a nail salon at 303 William St. R-2 Zone. \n\n\n\n7. Binal Patel seeks variance to covert single-family home to 3-unit home at 622 Quincy Ave. R-2O Zone \n\n\n\nAnyone interested in becoming a party to the above listed cases or have any questions regarding the hearing are directed to contact the City Zoning Officer at 570-348-4280 or by email at dking@scrantonpa.gov. \n\n\n\nShawn Walsh\, Chairman\, Scranton Zoning Hearing Board \n\n\n\nPublic Participation Welcome.
URL:https://scrantonpa.gov/event/zoning-hearing-board-5/
LOCATION:Council Chambers
CATEGORIES:City Events,Zoning Hearing Board
END:VEVENT
END:VCALENDAR