BEGIN:VCALENDAR
VERSION:2.0
PRODID:-//City of Scranton - ECPv6.15.20//NONSGML v1.0//EN
CALSCALE:GREGORIAN
METHOD:PUBLISH
X-ORIGINAL-URL:https://scrantonpa.gov
X-WR-CALDESC:Events for City of Scranton
REFRESH-INTERVAL;VALUE=DURATION:PT1H
X-Robots-Tag:noindex
X-PUBLISHED-TTL:PT1H
BEGIN:VTIMEZONE
TZID:America/New_York
BEGIN:DAYLIGHT
TZOFFSETFROM:-0500
TZOFFSETTO:-0400
TZNAME:EDT
DTSTART:20220313T070000
END:DAYLIGHT
BEGIN:STANDARD
TZOFFSETFROM:-0400
TZOFFSETTO:-0500
TZNAME:EST
DTSTART:20221106T060000
END:STANDARD
BEGIN:DAYLIGHT
TZOFFSETFROM:-0500
TZOFFSETTO:-0400
TZNAME:EDT
DTSTART:20230312T070000
END:DAYLIGHT
BEGIN:STANDARD
TZOFFSETFROM:-0400
TZOFFSETTO:-0500
TZNAME:EST
DTSTART:20231105T060000
END:STANDARD
BEGIN:DAYLIGHT
TZOFFSETFROM:-0500
TZOFFSETTO:-0400
TZNAME:EDT
DTSTART:20240310T070000
END:DAYLIGHT
BEGIN:STANDARD
TZOFFSETFROM:-0400
TZOFFSETTO:-0500
TZNAME:EST
DTSTART:20241103T060000
END:STANDARD
END:VTIMEZONE
BEGIN:VEVENT
DTSTART;TZID=America/New_York:20230609T170000
DTEND;TZID=America/New_York:20230609T190000
DTSTAMP:20260421T025233
CREATED:20230609T181316Z
LAST-MODIFIED:20230609T181318Z
UID:31528-1686330000-1686337200@scrantonpa.gov
SUMMARY:Allen Park Concert Series
DESCRIPTION:This Allen Park Concert Series will be a bi-weekly concert event on Friday evenings from 5:00 to 7:00 PM from June 9\, 2023\, to August 25\, 2023.
URL:https://scrantonpa.gov/event/allen-park-concert-series/
LOCATION:Allen Park\, Price Street and N. Main Avenue\, Scranton\, Pennsylvania\, 18504
CATEGORIES:City Events
END:VEVENT
BEGIN:VEVENT
DTSTART;TZID=America/New_York:20230610T100000
DTEND;TZID=America/New_York:20230610T120000
DTSTAMP:20260421T025233
CREATED:20230609T183858Z
LAST-MODIFIED:20230609T183859Z
UID:31550-1686391200-1686398400@scrantonpa.gov
SUMMARY:Connell Park Walking Club
DESCRIPTION:A Weekly Walking Club that meets every Saturday at 10:00 AM at Connell Park.  \n\n\n\nAll ages and skill levels are welcome.
URL:https://scrantonpa.gov/event/connell-park-walking-club/
LOCATION:Connell Park\, 800 Gibbons Street\, Scranton\, Pennsylvania
CATEGORIES:City Events
END:VEVENT
BEGIN:VEVENT
DTSTART;TZID=America/New_York:20230617T100000
DTEND;TZID=America/New_York:20230617T120000
DTSTAMP:20260421T025233
CREATED:20230609T184059Z
LAST-MODIFIED:20230609T184100Z
UID:31552-1686996000-1687003200@scrantonpa.gov
SUMMARY:Connell Park Walking Club
DESCRIPTION:A Weekly Walking Club that meets every Saturday at 10:00 AM at Connell Park. All ages and skill levels are welcome.
URL:https://scrantonpa.gov/event/connell-park-walking-club-2/
LOCATION:Connell Park\, 800 Gibbons Street\, Scranton\, Pennsylvania
CATEGORIES:City Events
END:VEVENT
BEGIN:VEVENT
DTSTART;TZID=America/New_York:20230617T130000
DTEND;TZID=America/New_York:20230617T160000
DTSTAMP:20260421T025233
CREATED:20230614T192514Z
LAST-MODIFIED:20230614T192544Z
UID:31778-1687006800-1687017600@scrantonpa.gov
SUMMARY:2nd Annual Climb Out of the Darkness Walk NEPA
DESCRIPTION:Come out to the 2nd Annual Climb Out of the Darkness Walk NEPA to raise awareness\, support\, and funds for Perinatal Mental Health.  \n\n\n\nHelp us create a day to come together and build a community of support as we climb out of the darkness.  \n\n\n\nThere will be something for everyone\, including a resource fair\, juggling\, music\, face painting\, balloon art\, activities\, and so much more!!
URL:https://scrantonpa.gov/event/2nd-annual-climb-out-of-the-darkness-walk-nepa/
LOCATION:Nay Aug Park\, 500 Arthur Ave.\, Scranton\, Pennsylvania\, 18510
CATEGORIES:City Events
END:VEVENT
BEGIN:VEVENT
DTSTART;TZID=America/New_York:20230623T170000
DTEND;TZID=America/New_York:20230623T190000
DTSTAMP:20260421T025233
CREATED:20230609T181435Z
LAST-MODIFIED:20230609T181436Z
UID:31530-1687539600-1687546800@scrantonpa.gov
SUMMARY:Allen Park Concert Series
DESCRIPTION:This Allen Park Concert Series will be a bi-weekly concert event on Friday evenings from 5:00 to 7:00 PM from June 9\, 2023\, to August 25\, 2023.
URL:https://scrantonpa.gov/event/allen-park-concert-series-2/
LOCATION:Allen Park\, Price Street and N. Main Avenue\, Scranton\, Pennsylvania\, 18504
CATEGORIES:City Events
END:VEVENT
BEGIN:VEVENT
DTSTART;TZID=America/New_York:20230624T100000
DTEND;TZID=America/New_York:20230624T120000
DTSTAMP:20260421T025233
CREATED:20230609T184241Z
LAST-MODIFIED:20230609T184242Z
UID:31555-1687600800-1687608000@scrantonpa.gov
SUMMARY:Connell Park Walking Club
DESCRIPTION:A Weekly Walking Club that meets every Saturday at 10:00 AM at Connell Park. All ages and skill levels are welcome.
URL:https://scrantonpa.gov/event/connell-park-walking-club-3/
LOCATION:Connell Park\, 800 Gibbons Street\, Scranton\, Pennsylvania
CATEGORIES:City Events
END:VEVENT
BEGIN:VEVENT
DTSTART;TZID=America/New_York:20230624T100000
DTEND;TZID=America/New_York:20230624T174500
DTSTAMP:20260421T025233
CREATED:20230622T135221Z
LAST-MODIFIED:20230622T135223Z
UID:31852-1687600800-1687628700@scrantonpa.gov
SUMMARY:Nay Aug Bike Race
DESCRIPTION:A bike race taking place in Nay Aug Park and on Arthur Ave.
URL:https://scrantonpa.gov/event/nay-aug-bike-race/
LOCATION:Nay Aug Park\, 500 Arthur Ave.\, Scranton\, Pennsylvania\, 18510
CATEGORIES:City Events
END:VEVENT
END:VCALENDAR