BEGIN:VCALENDAR
VERSION:2.0
PRODID:-//City of Scranton - ECPv6.15.20//NONSGML v1.0//EN
CALSCALE:GREGORIAN
METHOD:PUBLISH
X-WR-CALNAME:City of Scranton
X-ORIGINAL-URL:https://scrantonpa.gov
X-WR-CALDESC:Events for City of Scranton
REFRESH-INTERVAL;VALUE=DURATION:PT1H
X-Robots-Tag:noindex
X-PUBLISHED-TTL:PT1H
BEGIN:VTIMEZONE
TZID:America/New_York
BEGIN:DAYLIGHT
TZOFFSETFROM:-0500
TZOFFSETTO:-0400
TZNAME:EDT
DTSTART:20220313T070000
END:DAYLIGHT
BEGIN:STANDARD
TZOFFSETFROM:-0400
TZOFFSETTO:-0500
TZNAME:EST
DTSTART:20221106T060000
END:STANDARD
BEGIN:DAYLIGHT
TZOFFSETFROM:-0500
TZOFFSETTO:-0400
TZNAME:EDT
DTSTART:20230312T070000
END:DAYLIGHT
BEGIN:STANDARD
TZOFFSETFROM:-0400
TZOFFSETTO:-0500
TZNAME:EST
DTSTART:20231105T060000
END:STANDARD
BEGIN:DAYLIGHT
TZOFFSETFROM:-0500
TZOFFSETTO:-0400
TZNAME:EDT
DTSTART:20240310T070000
END:DAYLIGHT
BEGIN:STANDARD
TZOFFSETFROM:-0400
TZOFFSETTO:-0500
TZNAME:EST
DTSTART:20241103T060000
END:STANDARD
END:VTIMEZONE
BEGIN:VEVENT
DTSTART;TZID=America/New_York:20230701T100000
DTEND;TZID=America/New_York:20230701T120000
DTSTAMP:20260421T011617
CREATED:20230609T184552Z
LAST-MODIFIED:20230609T184553Z
UID:31559-1688205600-1688212800@scrantonpa.gov
SUMMARY:Connell Park Walking Club
DESCRIPTION:A Weekly Walking Club that meets every Saturday at 10:00 AM at Connell Park. All ages and skill levels are welcome.
URL:https://scrantonpa.gov/event/connell-park-walking-club-5/
LOCATION:Connell Park\, 800 Gibbons Street\, Scranton\, Pennsylvania
CATEGORIES:City Events
END:VEVENT
BEGIN:VEVENT
DTSTART;TZID=America/New_York:20230707T170000
DTEND;TZID=America/New_York:20230707T190000
DTSTAMP:20260421T011617
CREATED:20230609T181655Z
LAST-MODIFIED:20230609T181656Z
UID:31532-1688749200-1688756400@scrantonpa.gov
SUMMARY:Allen Park Concert Series
DESCRIPTION:The Allen Park Concert Series will be a bi-weekly concert event on Friday evenings from 5:00 PM – 7:00 PM from June 9\, 2023\, to August 25\, 2023.
URL:https://scrantonpa.gov/event/allen-park-concert-series-3/
LOCATION:Allen Park\, Price Street and N. Main Avenue\, Scranton\, Pennsylvania\, 18504
CATEGORIES:City Events
END:VEVENT
BEGIN:VEVENT
DTSTART;TZID=America/New_York:20230708T100000
DTEND;TZID=America/New_York:20230708T120000
DTSTAMP:20260421T011617
CREATED:20230609T184817Z
LAST-MODIFIED:20230609T184819Z
UID:31561-1688810400-1688817600@scrantonpa.gov
SUMMARY:Connell Park Walking Club
DESCRIPTION:A Weekly Walking Club that meets every Saturday at 10:00 AM at Connell Park. All ages and skill levels are welcome.
URL:https://scrantonpa.gov/event/connell-park-walking-club-6/
LOCATION:Connell Park\, 800 Gibbons Street\, Scranton\, Pennsylvania
CATEGORIES:City Events
END:VEVENT
BEGIN:VEVENT
DTSTART;TZID=America/New_York:20230715T100000
DTEND;TZID=America/New_York:20230715T120000
DTSTAMP:20260421T011617
CREATED:20230609T184958Z
LAST-MODIFIED:20230609T184959Z
UID:31563-1689415200-1689422400@scrantonpa.gov
SUMMARY:Connell Park Walking Club
DESCRIPTION:A Weekly Walking Club that meets every Saturday at 10:00 AM at Connell Park. All ages and skill levels are welcome.
URL:https://scrantonpa.gov/event/connell-park-walking-club-7/
LOCATION:Connell Park\, 800 Gibbons Street\, Scranton\, Pennsylvania
CATEGORIES:City Events
END:VEVENT
BEGIN:VEVENT
DTSTART;TZID=America/New_York:20230715T160000
DTEND;TZID=America/New_York:20230715T213000
DTSTAMP:20260421T011617
CREATED:20230705T150136Z
LAST-MODIFIED:20230710T201211Z
UID:32070-1689436800-1689456600@scrantonpa.gov
SUMMARY:Movies in the Park - Emperor's New Groove
DESCRIPTION:Join Scranton Parks & Recreation for their Summer Movies in the Park! \n\n\n\nThere will be an Alpaca meet and greet with Windy Haven Farm from 4:00 PM to 8:00PM \n\n\n\nMovie: Emperor’s New GrooveMovie Start Time: 8:00 PMLocation: Crowley Park
URL:https://scrantonpa.gov/event/movies-in-the-park-emperors-new-groove/
LOCATION:Crowley Park\, 1199 Highnett Pl #901\, Scranton\, Pennsylvania\, 18509
CATEGORIES:Parks & Recreation
END:VEVENT
BEGIN:VEVENT
DTSTART;TZID=America/New_York:20230721T170000
DTEND;TZID=America/New_York:20230721T190000
DTSTAMP:20260421T011617
CREATED:20230609T181941Z
LAST-MODIFIED:20230609T181942Z
UID:31534-1689958800-1689966000@scrantonpa.gov
SUMMARY:Allen Park Concert Series
DESCRIPTION:The Allen Park Concert Series will be a bi-weekly concert event on Friday evenings from 5:00 PM – 7:00 PM from June 9\, 2023\, to August 25\, 2023.
URL:https://scrantonpa.gov/event/allen-park-concert-series-4/
LOCATION:Allen Park\, Price Street and N. Main Avenue\, Scranton\, Pennsylvania\, 18504
CATEGORIES:City Events
END:VEVENT
BEGIN:VEVENT
DTSTART;TZID=America/New_York:20230722T100000
DTEND;TZID=America/New_York:20230722T120000
DTSTAMP:20260421T011617
CREATED:20230609T184352Z
LAST-MODIFIED:20230609T185300Z
UID:31557-1690020000-1690027200@scrantonpa.gov
SUMMARY:Connell Park Walking Club
DESCRIPTION:A Weekly Walking Club that meets every Saturday at 10:00 AM at Connell Park. All ages and skill levels are welcome.
URL:https://scrantonpa.gov/event/connell-park-walking-club-4/
LOCATION:Connell Park\, 800 Gibbons Street\, Scranton\, Pennsylvania
CATEGORIES:City Events
END:VEVENT
BEGIN:VEVENT
DTSTART;TZID=America/New_York:20230722T203000
DTEND;TZID=America/New_York:20230722T213000
DTSTAMP:20260421T011617
CREATED:20230705T143600Z
LAST-MODIFIED:20230710T201434Z
UID:32056-1690057800-1690061400@scrantonpa.gov
SUMMARY:Movies in the Park - Lightyear
DESCRIPTION:Join Scranton Parks & Recreation for their Summer Movies in the Park! \n\n\n\nMovie: LightyearStart Time: 8:30 PMLocation: Nay Aug Park
URL:https://scrantonpa.gov/event/movies-in-the-park-lightyear/
LOCATION:Nay Aug Park\, 500 Arthur Ave.\, Scranton\, Pennsylvania\, 18510
CATEGORIES:Parks & Recreation
END:VEVENT
BEGIN:VEVENT
DTSTART;TZID=America/New_York:20230729T100000
DTEND;TZID=America/New_York:20230729T120000
DTSTAMP:20260421T011618
CREATED:20230609T190039Z
LAST-MODIFIED:20230609T190041Z
UID:31565-1690624800-1690632000@scrantonpa.gov
SUMMARY:Connell Park Walking Club
DESCRIPTION:A Weekly Walking Club that meets every Saturday at 10:00 AM at Connell Park.All ages and skill levels are welcome.
URL:https://scrantonpa.gov/event/connell-park-walking-club-8/
LOCATION:Connell Park\, 800 Gibbons Street\, Scranton\, Pennsylvania
CATEGORIES:City Events
END:VEVENT
BEGIN:VEVENT
DTSTART;TZID=America/New_York:20230729T203000
DTEND;TZID=America/New_York:20230729T213000
DTSTAMP:20260421T011618
CREATED:20230705T145124Z
LAST-MODIFIED:20230710T201529Z
UID:32066-1690662600-1690666200@scrantonpa.gov
SUMMARY:Movies in the Park - Paw Patrol: The Movie
DESCRIPTION:Join Scranton Parks & Recreation for their Summer Movies in the Park! \n\n\n\nMovie: Paw Patrol: The MovieStart Time: 8:30 PMLocation: Connell Park
URL:https://scrantonpa.gov/event/movies-in-the-park-paw-patrol-the-movie/
LOCATION:Connell Park\, 800 Gibbons Street\, Scranton\, Pennsylvania
CATEGORIES:Parks & Recreation
END:VEVENT
BEGIN:VEVENT
DTSTART;TZID=America/New_York:20230731T080000
DTEND;TZID=America/New_York:20230731T170000
DTSTAMP:20260421T011618
CREATED:20230731T195907Z
LAST-MODIFIED:20230731T195908Z
UID:32499-1690790400-1690822800@scrantonpa.gov
SUMMARY:Public Meetings on Nay Aug Park Pool
DESCRIPTION:Our final public meeting on the future of Nay Aug Park aquatic complex will be held Tuesday\, August 15\, 2023. \n\n\n\nJoin us to share your opinion at Weston Field House on Providence Road!
URL:https://scrantonpa.gov/event/public-meetings-on-nay-aug-park-pool-3/
LOCATION:Weston Field\, 982 Providence Rd\, Scranton\, PA\, 18505\, United States
END:VEVENT
END:VCALENDAR