BEGIN:VCALENDAR
VERSION:2.0
PRODID:-//City of Scranton - ECPv6.15.20//NONSGML v1.0//EN
CALSCALE:GREGORIAN
METHOD:PUBLISH
X-WR-CALNAME:City of Scranton
X-ORIGINAL-URL:https://scrantonpa.gov
X-WR-CALDESC:Events for City of Scranton
REFRESH-INTERVAL;VALUE=DURATION:PT1H
X-Robots-Tag:noindex
X-PUBLISHED-TTL:PT1H
BEGIN:VTIMEZONE
TZID:America/New_York
BEGIN:DAYLIGHT
TZOFFSETFROM:-0500
TZOFFSETTO:-0400
TZNAME:EDT
DTSTART:20220313T070000
END:DAYLIGHT
BEGIN:STANDARD
TZOFFSETFROM:-0400
TZOFFSETTO:-0500
TZNAME:EST
DTSTART:20221106T060000
END:STANDARD
BEGIN:DAYLIGHT
TZOFFSETFROM:-0500
TZOFFSETTO:-0400
TZNAME:EDT
DTSTART:20230312T070000
END:DAYLIGHT
BEGIN:STANDARD
TZOFFSETFROM:-0400
TZOFFSETTO:-0500
TZNAME:EST
DTSTART:20231105T060000
END:STANDARD
BEGIN:DAYLIGHT
TZOFFSETFROM:-0500
TZOFFSETTO:-0400
TZNAME:EDT
DTSTART:20240310T070000
END:DAYLIGHT
BEGIN:STANDARD
TZOFFSETFROM:-0400
TZOFFSETTO:-0500
TZNAME:EST
DTSTART:20241103T060000
END:STANDARD
END:VTIMEZONE
BEGIN:VEVENT
DTSTART;TZID=America/New_York:20230804T100000
DTEND;TZID=America/New_York:20230804T130000
DTSTAMP:20260420T115454
CREATED:20230726T155050Z
LAST-MODIFIED:20230726T155615Z
UID:32467-1691143200-1691154000@scrantonpa.gov
SUMMARY:Kids in the Park | Connell Park
DESCRIPTION:Kids in the parkDownload
URL:https://scrantonpa.gov/event/kids-in-the-park-2/
LOCATION:Connell Park\, 800 Gibbons Street\, Scranton\, Pennsylvania
CATEGORIES:City Events
END:VEVENT
BEGIN:VEVENT
DTSTART;TZID=America/New_York:20230804T170000
DTEND;TZID=America/New_York:20230804T190000
DTSTAMP:20260420T115454
CREATED:20230609T182148Z
LAST-MODIFIED:20230609T182149Z
UID:31536-1691168400-1691175600@scrantonpa.gov
SUMMARY:Allen Park Concert Series
DESCRIPTION:The Allen Park Concert Series will be a bi-weekly concert event on Friday evenings from 5:00 PM – 7:00 PM from June 6\, 2023\, until August 25\, 2023.
URL:https://scrantonpa.gov/event/allen-park-concert-series-5/
CATEGORIES:City Events
END:VEVENT
BEGIN:VEVENT
DTSTART;TZID=America/New_York:20230805T120000
DTEND;TZID=America/New_York:20230805T190000
DTSTAMP:20260420T115454
CREATED:20230628T151816Z
LAST-MODIFIED:20230628T151828Z
UID:31951-1691236800-1691262000@scrantonpa.gov
SUMMARY:NEPA’s Latino Fiesta
DESCRIPTION:Join us for a safe and fun filled family day. There will be music\, food\, vendors\, community resources\, raffles\, entertainment\, kids activities and MORE!
URL:https://scrantonpa.gov/event/nepas-latino-fiesta/
LOCATION:Nay Aug Park\, 500 Arthur Ave.\, Scranton\, Pennsylvania\, 18510
END:VEVENT
BEGIN:VEVENT
DTSTART;TZID=America/New_York:20230805T203000
DTEND;TZID=America/New_York:20230805T213000
DTSTAMP:20260420T115454
CREATED:20230705T145514Z
LAST-MODIFIED:20230710T201542Z
UID:32068-1691267400-1691271000@scrantonpa.gov
SUMMARY:Movies in the Park - Finding Nemo
DESCRIPTION:Join Scranton Parks & Recreation for their Summer Movies in the Park! \n\n\n\nMovie: Finding NemoStart Time: 8:30 PMLocation: Connell Park
URL:https://scrantonpa.gov/event/movies-in-the-park-finding-nemo/
LOCATION:Connell Park\, 800 Gibbons Street\, Scranton\, Pennsylvania
CATEGORIES:Parks & Recreation
END:VEVENT
BEGIN:VEVENT
DTSTART;TZID=America/New_York:20230808T173000
DTEND;TZID=America/New_York:20230808T183000
DTSTAMP:20260420T115454
CREATED:20230731T195615Z
LAST-MODIFIED:20230731T195619Z
UID:32495-1691515800-1691519400@scrantonpa.gov
SUMMARY:Public Meetings on Nay Aug Park Pool
DESCRIPTION:Community meetings on the future Nay Aug Park aquatic complex continue this week. \n\n\n\nJoin us on Cedar Avenue this Tuesday\, August 8th.
URL:https://scrantonpa.gov/event/public-meetings-on-nay-aug-park-pool-2/
LOCATION:UNC Community Room\, 509 Cedar Avenue\, Scranton\, Pennsylvania\, 18505\, United States
CATEGORIES:City Events
END:VEVENT
BEGIN:VEVENT
DTSTART;TZID=America/New_York:20230811T100000
DTEND;TZID=America/New_York:20230811T130000
DTSTAMP:20260420T115454
CREATED:20230726T155419Z
LAST-MODIFIED:20230726T155421Z
UID:32469-1691748000-1691758800@scrantonpa.gov
SUMMARY:Kids in the Park | Novembrino Splash Pad
DESCRIPTION:Kids in the parkDownload
URL:https://scrantonpa.gov/event/kids-in-the-park-novembrino-splash-pad/
LOCATION:Novembrino Splash Pad\, 201 South 10th Avenue\, Scranton\, Pennsylvania\, 18504
CATEGORIES:City Events
END:VEVENT
BEGIN:VEVENT
DTSTART;TZID=America/New_York:20230812T100000
DTEND;TZID=America/New_York:20230812T120000
DTSTAMP:20260420T115454
CREATED:20230609T191322Z
LAST-MODIFIED:20230609T191323Z
UID:31569-1691834400-1691841600@scrantonpa.gov
SUMMARY:Connell Park Walking Club
DESCRIPTION:A Weekly Walking Club that meets every Saturday at 10:00 AM at Connell Park. All ages and skill levels are welcome.
URL:https://scrantonpa.gov/event/connell-park-walking-club-10/
LOCATION:Connell Park\, 800 Gibbons Street\, Scranton\, Pennsylvania
CATEGORIES:City Events
END:VEVENT
BEGIN:VEVENT
DTSTART;TZID=America/New_York:20230812T200000
DTEND;TZID=America/New_York:20230812T210000
DTSTAMP:20260420T115454
CREATED:20230705T143807Z
LAST-MODIFIED:20230710T201556Z
UID:32058-1691870400-1691874000@scrantonpa.gov
SUMMARY:Movies in the Park - Frozen
DESCRIPTION:Join Scranton Parks & Recreation for their Summer Movies in the Park! \n\n\n\nMovie: FrozenStart Time: 8:00 PMLocation: Nay Aug Park
URL:https://scrantonpa.gov/event/movies-in-the-park-frozen/
LOCATION:Nay Aug Park\, 500 Arthur Ave.\, Scranton\, Pennsylvania\, 18510
CATEGORIES:Parks & Recreation
END:VEVENT
BEGIN:VEVENT
DTSTART;TZID=America/New_York:20230818T170000
DTEND;TZID=America/New_York:20230818T190000
DTSTAMP:20260420T115454
CREATED:20230609T182312Z
LAST-MODIFIED:20230609T182314Z
UID:31538-1692378000-1692385200@scrantonpa.gov
SUMMARY:Allen Park Concert Series
DESCRIPTION:The Allen Park Concert Series will be a bi-weekly concert event on Friday evenings from 5:00 PM – 7:00 PM from June 6\, 2023\, until August 25\, 2023.
URL:https://scrantonpa.gov/event/allen-park-concert-series-6/
LOCATION:Allen Park\, Price Street and N. Main Avenue\, Scranton\, Pennsylvania\, 18504
CATEGORIES:City Events
END:VEVENT
BEGIN:VEVENT
DTSTART;TZID=America/New_York:20230819T100000
DTEND;TZID=America/New_York:20230819T120000
DTSTAMP:20260420T115454
CREATED:20230609T191926Z
LAST-MODIFIED:20230609T191929Z
UID:31571-1692439200-1692446400@scrantonpa.gov
SUMMARY:Connell Park Walking Club
DESCRIPTION:A Weekly Walking Club that meets every Saturday at 10:00 AM at Connell Park. All ages and skill levels are welcome.
URL:https://scrantonpa.gov/event/connell-park-walking-club-11/
LOCATION:Connell Park\, 800 Gibbons Street\, Scranton\, Pennsylvania
CATEGORIES:City Events
END:VEVENT
BEGIN:VEVENT
DTSTART;TZID=America/New_York:20230819T200000
DTEND;TZID=America/New_York:20230819T210000
DTSTAMP:20260420T115454
CREATED:20230705T144212Z
LAST-MODIFIED:20230710T201611Z
UID:32062-1692475200-1692478800@scrantonpa.gov
SUMMARY:Movies in the Park - Luca
DESCRIPTION:Join Scranton Parks & Recreation for their Summer Movies in the Park! \n\n\n\nMovie: LucaStart Time: 8:00 PMLocation: Nay Aug Park
URL:https://scrantonpa.gov/event/movies-in-the-park-luca/
LOCATION:Nay Aug Park\, 500 Arthur Ave.\, Scranton\, Pennsylvania\, 18510
CATEGORIES:Parks & Recreation
END:VEVENT
BEGIN:VEVENT
DTSTART;TZID=America/New_York:20230826T100000
DTEND;TZID=America/New_York:20230826T120000
DTSTAMP:20260420T115454
CREATED:20230609T192548Z
LAST-MODIFIED:20230609T192551Z
UID:31573-1693044000-1693051200@scrantonpa.gov
SUMMARY:Connell Park Walking Club
DESCRIPTION:A Weekly Walking Club that meets every Saturday at 10:00 AM at Connell Park.All ages and skill levels are welcome.
URL:https://scrantonpa.gov/event/connell-park-walking-club-12/
LOCATION:Connell Park\, 800 Gibbons Street\, Scranton\, Pennsylvania
CATEGORIES:City Events
END:VEVENT
BEGIN:VEVENT
DTSTART;TZID=America/New_York:20230826T200000
DTEND;TZID=America/New_York:20230826T210000
DTSTAMP:20260420T115454
CREATED:20230705T144402Z
LAST-MODIFIED:20230710T201326Z
UID:32064-1693080000-1693083600@scrantonpa.gov
SUMMARY:Movies in the Park - Hotel Transylvania 4
DESCRIPTION:Join Scranton Parks & Recreation for their Summer Movies in the Park! \n\n\n\nMovie: Hotel Transylvania 4Start Time: 8:00 PMLocation: Nay Aug Park
URL:https://scrantonpa.gov/event/movies-in-the-park-hotel-transylvania-4/
LOCATION:Nay Aug Park\, 500 Arthur Ave.\, Scranton\, Pennsylvania\, 18510
CATEGORIES:Parks & Recreation
END:VEVENT
BEGIN:VEVENT
DTSTART;TZID=America/New_York:20230831T120000
DTEND;TZID=America/New_York:20230831T160000
DTSTAMP:20260420T115454
CREATED:20230829T152100Z
LAST-MODIFIED:20230829T152102Z
UID:32757-1693483200-1693497600@scrantonpa.gov
SUMMARY:Pop-Up City Hall | Oakmont Park
DESCRIPTION:Back by popular demand\, the City of Scranton is extends its Pop-Up City Halls through September! Join us at Oakmont Park on Thursday\, August 31\, 2023 from 12:00 PM to 4:00 PM for a chance to meet your city officials\, access important resources\, and voice your ideas! Whether you have questions and concerns\, need recycling bins\, or want smoke alarms installed\, this is your one-stop-shop for city resources! Need more info? Contact Isiah Watson at 570.702.6350 or iwatson@scrantonpa.gov\, or Channel Kearse at 570.445.7487 or ckearse@scrantonpa.gov
URL:https://scrantonpa.gov/event/pop-up-city-hall-oakmont-park/
LOCATION:Oakmont Park\, 200 Debbi Drive\, Scranton\, Pennsylvania\, 18505
CATEGORIES:Pop-Up City Halls
END:VEVENT
END:VCALENDAR