BEGIN:VCALENDAR
VERSION:2.0
PRODID:-//City of Scranton - ECPv6.15.20//NONSGML v1.0//EN
CALSCALE:GREGORIAN
METHOD:PUBLISH
X-ORIGINAL-URL:https://scrantonpa.gov
X-WR-CALDESC:Events for City of Scranton
REFRESH-INTERVAL;VALUE=DURATION:PT1H
X-Robots-Tag:noindex
X-PUBLISHED-TTL:PT1H
BEGIN:VTIMEZONE
TZID:America/New_York
BEGIN:DAYLIGHT
TZOFFSETFROM:-0500
TZOFFSETTO:-0400
TZNAME:EDT
DTSTART:20220313T070000
END:DAYLIGHT
BEGIN:STANDARD
TZOFFSETFROM:-0400
TZOFFSETTO:-0500
TZNAME:EST
DTSTART:20221106T060000
END:STANDARD
BEGIN:DAYLIGHT
TZOFFSETFROM:-0500
TZOFFSETTO:-0400
TZNAME:EDT
DTSTART:20230312T070000
END:DAYLIGHT
BEGIN:STANDARD
TZOFFSETFROM:-0400
TZOFFSETTO:-0500
TZNAME:EST
DTSTART:20231105T060000
END:STANDARD
BEGIN:DAYLIGHT
TZOFFSETFROM:-0500
TZOFFSETTO:-0400
TZNAME:EDT
DTSTART:20240310T070000
END:DAYLIGHT
BEGIN:STANDARD
TZOFFSETFROM:-0400
TZOFFSETTO:-0500
TZNAME:EST
DTSTART:20241103T060000
END:STANDARD
END:VTIMEZONE
BEGIN:VEVENT
DTSTART;TZID=America/New_York:20230624T100000
DTEND;TZID=America/New_York:20230624T120000
DTSTAMP:20260421T185747
CREATED:20230609T184241Z
LAST-MODIFIED:20230609T184242Z
UID:31555-1687600800-1687608000@scrantonpa.gov
SUMMARY:Connell Park Walking Club
DESCRIPTION:A Weekly Walking Club that meets every Saturday at 10:00 AM at Connell Park. All ages and skill levels are welcome.
URL:https://scrantonpa.gov/event/connell-park-walking-club-3/
LOCATION:Connell Park\, 800 Gibbons Street\, Scranton\, Pennsylvania
CATEGORIES:City Events
END:VEVENT
BEGIN:VEVENT
DTSTART;TZID=America/New_York:20230624T100000
DTEND;TZID=America/New_York:20230624T174500
DTSTAMP:20260421T185747
CREATED:20230622T135221Z
LAST-MODIFIED:20230622T135223Z
UID:31852-1687600800-1687628700@scrantonpa.gov
SUMMARY:Nay Aug Bike Race
DESCRIPTION:A bike race taking place in Nay Aug Park and on Arthur Ave.
URL:https://scrantonpa.gov/event/nay-aug-bike-race/
LOCATION:Nay Aug Park\, 500 Arthur Ave.\, Scranton\, Pennsylvania\, 18510
CATEGORIES:City Events
END:VEVENT
END:VCALENDAR