BEGIN:VCALENDAR
VERSION:2.0
PRODID:-//City of Scranton - ECPv6.15.20//NONSGML v1.0//EN
CALSCALE:GREGORIAN
METHOD:PUBLISH
X-WR-CALNAME:City of Scranton
X-ORIGINAL-URL:https://scrantonpa.gov
X-WR-CALDESC:Events for City of Scranton
REFRESH-INTERVAL;VALUE=DURATION:PT1H
X-Robots-Tag:noindex
X-PUBLISHED-TTL:PT1H
BEGIN:VTIMEZONE
TZID:America/New_York
BEGIN:DAYLIGHT
TZOFFSETFROM:-0500
TZOFFSETTO:-0400
TZNAME:EDT
DTSTART:20220313T070000
END:DAYLIGHT
BEGIN:STANDARD
TZOFFSETFROM:-0400
TZOFFSETTO:-0500
TZNAME:EST
DTSTART:20221106T060000
END:STANDARD
BEGIN:DAYLIGHT
TZOFFSETFROM:-0500
TZOFFSETTO:-0400
TZNAME:EDT
DTSTART:20230312T070000
END:DAYLIGHT
BEGIN:STANDARD
TZOFFSETFROM:-0400
TZOFFSETTO:-0500
TZNAME:EST
DTSTART:20231105T060000
END:STANDARD
BEGIN:DAYLIGHT
TZOFFSETFROM:-0500
TZOFFSETTO:-0400
TZNAME:EDT
DTSTART:20240310T070000
END:DAYLIGHT
BEGIN:STANDARD
TZOFFSETFROM:-0400
TZOFFSETTO:-0500
TZNAME:EST
DTSTART:20241103T060000
END:STANDARD
END:VTIMEZONE
BEGIN:VEVENT
DTSTART;TZID=America/New_York:20230901T120000
DTEND;TZID=America/New_York:20230901T160000
DTSTAMP:20260420T130043
CREATED:20230829T152303Z
LAST-MODIFIED:20230829T152448Z
UID:32761-1693569600-1693584000@scrantonpa.gov
SUMMARY:Pop-Up City Hall | Novembrino Splash-Pad
DESCRIPTION:Back by popular demand\, the City of Scranton is extends its Pop-Up City Halls through September! Join us at Novembrino Splash-pad on Friday\, September 1\, 2023 from 12:00 PM to 4:00 PM for a chance to meet your city officials\, access important resources\, and voice your ideas! Whether you have questions and concerns\, need recycling bins\, or want smoke alarms installed\, this is your one-stop-shop for city resources! Need more info? Contact Isiah Watson at 570.702.6350 or iwatson@scrantonpa.gov\, or Channel Kearse at 570.445.7487 or ckearse@scrantonpa.gov
URL:https://scrantonpa.gov/event/pop-up-city-hall-novembrino-splash-pad/
LOCATION:Novembrino Splash Pad\, 201 South 10th Avenue\, Scranton\, Pennsylvania\, 18504
CATEGORIES:Pop-Up City Halls
END:VEVENT
END:VCALENDAR