BEGIN:VCALENDAR
VERSION:2.0
PRODID:-//City of Scranton - ECPv6.15.20//NONSGML v1.0//EN
CALSCALE:GREGORIAN
METHOD:PUBLISH
X-ORIGINAL-URL:https://scrantonpa.gov
X-WR-CALDESC:Events for City of Scranton
REFRESH-INTERVAL;VALUE=DURATION:PT1H
X-Robots-Tag:noindex
X-PUBLISHED-TTL:PT1H
BEGIN:VTIMEZONE
TZID:America/New_York
BEGIN:DAYLIGHT
TZOFFSETFROM:-0500
TZOFFSETTO:-0400
TZNAME:EDT
DTSTART:20220313T070000
END:DAYLIGHT
BEGIN:STANDARD
TZOFFSETFROM:-0400
TZOFFSETTO:-0500
TZNAME:EST
DTSTART:20221106T060000
END:STANDARD
BEGIN:DAYLIGHT
TZOFFSETFROM:-0500
TZOFFSETTO:-0400
TZNAME:EDT
DTSTART:20230312T070000
END:DAYLIGHT
BEGIN:STANDARD
TZOFFSETFROM:-0400
TZOFFSETTO:-0500
TZNAME:EST
DTSTART:20231105T060000
END:STANDARD
BEGIN:DAYLIGHT
TZOFFSETFROM:-0500
TZOFFSETTO:-0400
TZNAME:EDT
DTSTART:20240310T070000
END:DAYLIGHT
BEGIN:STANDARD
TZOFFSETFROM:-0400
TZOFFSETTO:-0500
TZNAME:EST
DTSTART:20241103T060000
END:STANDARD
END:VTIMEZONE
BEGIN:VEVENT
DTSTART;TZID=America/New_York:20230929T120000
DTEND;TZID=America/New_York:20230929T160000
DTSTAMP:20260420T031658
CREATED:20230829T153249Z
LAST-MODIFIED:20231102T200247Z
UID:32770-1695988800-1696003200@scrantonpa.gov
SUMMARY:Pop-Up City Hall | Tripp Park
DESCRIPTION:Back by popular demand\, the City of Scranton is extends its Pop-Up City Halls through September! Join us at Tripp Park on Friday\, September 29\, 2023 from 12:00 PM to 4:00 PM for a chance to meet your city officials\, access important resources\, and voice your ideas! Whether you have questions and concerns\, need recycling bins\, or want smoke alarms installed\, this is your one-stop-shop for city resources! Need more info? Contact Isiah Watson at 570.702.6350 or iwatson@scrantonpa.gov\, or Channel Kearse at 570.445.7487 or ckearse@scrantonpa.gov
URL:https://scrantonpa.gov/event/pop-up-city-hall-tripp-park/
LOCATION:Tripp Park\, 2199 Dorthy Street\, Scranton\, Pennsylvania\, 18504
CATEGORIES:Pop-Up City Halls
END:VEVENT
END:VCALENDAR